BEGIN:VCALENDAR
VERSION:2.0
PRODID:-//EPM - ECPv6.15.17//NONSGML v1.0//EN
CALSCALE:GREGORIAN
METHOD:PUBLISH
X-WR-CALNAME:EPM
X-ORIGINAL-URL:https://www.epmacau.edu.mo
X-WR-CALDESC:Eventos para EPM
REFRESH-INTERVAL;VALUE=DURATION:PT1H
X-Robots-Tag:noindex
X-PUBLISHED-TTL:PT1H
BEGIN:VTIMEZONE
TZID:Asia/Macau
BEGIN:STANDARD
TZOFFSETFROM:+0800
TZOFFSETTO:+0800
TZNAME:CST
DTSTART:20240101T000000
END:STANDARD
END:VTIMEZONE
BEGIN:VEVENT
DTSTART;VALUE=DATE:20251114
DTEND;VALUE=DATE:20251115
DTSTAMP:20260422T060724
CREATED:20251113T003708Z
LAST-MODIFIED:20251113T010152Z
UID:33332-1763078400-1763164799@www.epmacau.edu.mo
SUMMARY:Exposição de Fotografia - O mundo na minha lente
DESCRIPTION:Organizada pela Casa de Portugal em Macau\, a exposição de fotografia de Manuel Figueiredo “O Mundo na minha lente”\, com curadoria de Francisco Ricarte\, inaugurada em Setembro na Casa de Vidro\, será apresentada no dia 14 de Novembro\, pelas 18:30\, no átrio da Escola Portuguesa de Macau\, contando com algumas fotografias novas. São todos bem-vindos! \n由澳門葡人之家協會主辦，Francisco Ricarte策展的Manuel Figueiredo個人攝影展「我鏡頭中的世界」已于10月份在塔石玻璃屋葡國好嘢完展，現將于11月14日下午6點於澳門葡文學校再次開展，屆時將展出一些新的照片。歡迎各界人士參加。 \nOrganized by Casa de Portugal em Macau\, the photography exhibition by Manuel Figueiredo\, “The World in My Lens\,” curated by Francisco Ricarte\, which was inaugurated in September at the Glass House\, will be presented on November 14 at 6:30 PM in the atrium of the Portuguese School of Macau\, featuring some new photographs. Everyone is welcome!
URL:https://www.epmacau.edu.mo/calendario-evento/exposicao-de-fotografia-o-mundo-na-minha-lente/
LOCATION:Casa de Portugal em Macau – Casa de Vidro
ATTACH;FMTTYPE=image/jpeg:https://www.epmacau.edu.mo/wp-content/uploads/2025/11/ExpFot_MF.jpg
END:VEVENT
BEGIN:VEVENT
DTSTART;TZID=Asia/Macau:20251115T100000
DTEND;TZID=Asia/Macau:20251115T120000
DTSTAMP:20260422T060724
CREATED:20251111T035014Z
LAST-MODIFIED:20251111T035017Z
UID:33328-1763200800-1763208000@www.epmacau.edu.mo
SUMMARY:Cerimónia de Atribuição de Menções de Excelência e Prémios Escolares 2024/2025
DESCRIPTION:
URL:https://www.epmacau.edu.mo/calendario-evento/cerimonia-de-atribuicao-de-mencoes-de-excelencia-e-premios-escolares-2024-2025/
LOCATION:Pavilhão Gimnodesportivo da EPM\, Escola Portuguesa de Macau\, Av. Infante D. Henrique\, s/n\, Macau\, Macau\, China\, Macau
CATEGORIES:Escola
ATTACH;FMTTYPE=image/jpeg:https://www.epmacau.edu.mo/wp-content/uploads/2025/11/Cartaz_Premios25.jpg
END:VEVENT
BEGIN:VEVENT
DTSTART;VALUE=DATE:20251117
DTEND;VALUE=DATE:20251122
DTSTAMP:20260422T060724
CREATED:20251117T014346Z
LAST-MODIFIED:20251117T014407Z
UID:33346-1763337600-1763769599@www.epmacau.edu.mo
SUMMARY:Semana da Filosofia
DESCRIPTION:
URL:https://www.epmacau.edu.mo/calendario-evento/semana-da-filosofia/
LOCATION:Escola Portuguesa de Macau\, Av. do Infante Dom Henrique\, Macau\, Macau
CATEGORIES:Escola
ATTACH;FMTTYPE=image/jpeg:https://www.epmacau.edu.mo/wp-content/uploads/2025/11/CartazSemanaFIL25.jpg
END:VEVENT
BEGIN:VEVENT
DTSTART;TZID=Asia/Macau:20251122T150000
DTEND;TZID=Asia/Macau:20251123T183000
DTSTAMP:20260422T060724
CREATED:20251121T051130Z
LAST-MODIFIED:20251121T051134Z
UID:33390-1763823600-1763922600@www.epmacau.edu.mo
SUMMARY:Festival da Criança
DESCRIPTION:Música ao vivo\, jogos e animação para toda a família! Live music\, games & animation for the whole family! \n現場樂隊，遊戲，公仔人偶等活動適合親子家庭遊玩！
URL:https://www.epmacau.edu.mo/calendario-evento/festival-da-crianca/
LOCATION:Escola Portuguesa de Macau\, Av. do Infante Dom Henrique\, Macau\, Macau
CATEGORIES:Escola
ATTACH;FMTTYPE=image/jpeg:https://www.epmacau.edu.mo/wp-content/uploads/2025/11/FestivalCrianca_cpm.jpg
END:VEVENT
END:VCALENDAR