BEGIN:VCALENDAR
VERSION:2.0
PRODID:-//EPM - ECPv6.15.17//NONSGML v1.0//EN
CALSCALE:GREGORIAN
METHOD:PUBLISH
X-WR-CALNAME:EPM
X-ORIGINAL-URL:https://www.epmacau.edu.mo
X-WR-CALDESC:Eventos para EPM
REFRESH-INTERVAL;VALUE=DURATION:PT1H
X-Robots-Tag:noindex
X-PUBLISHED-TTL:PT1H
BEGIN:VTIMEZONE
TZID:Asia/Macau
BEGIN:STANDARD
TZOFFSETFROM:+0800
TZOFFSETTO:+0800
TZNAME:CST
DTSTART:20200101T000000
END:STANDARD
END:VTIMEZONE
BEGIN:VEVENT
DTSTART;VALUE=DATE:20221209
DTEND;VALUE=DATE:20221211
DTSTAMP:20260422T101301
CREATED:20221208T170555Z
LAST-MODIFIED:20221228T234658Z
UID:9970-1670572800-1670659199@www.epmacau.edu.mo
SUMMARY:Dia Internacional Contra a Corrupção. Exposição de Cartazes/Trabalhos Sobre os Direitos Humanos -Anticorrupção
DESCRIPTION:
URL:https://www.epmacau.edu.mo/calendario-evento/dia-internacional-contra-a-corrupcao-exposicao-de-cartazes-trabalhos-sobre-os-direitos-humanos-anticorrupcao/
LOCATION:Escola Portuguesa de Macau\, Av. do Infante Dom Henrique\, Macau\, Macau
CATEGORIES:Escola
ATTACH;FMTTYPE=image/jpeg:https://www.epmacau.edu.mo/wp-content/uploads/2022/12/dia-anticorrup-scaled.jpg
END:VEVENT
BEGIN:VEVENT
DTSTART;VALUE=DATE:20221209
DTEND;VALUE=DATE:20221211
DTSTAMP:20260422T101301
CREATED:20221208T170227Z
LAST-MODIFIED:20221228T234725Z
UID:9969-1670572800-1670659199@www.epmacau.edu.mo
SUMMARY:Comemoração do Dia Internacional Contra a Corrupção
DESCRIPTION:
URL:https://www.epmacau.edu.mo/calendario-evento/comemoracao-do-dia-internacional-contra-a-corrupcao/
LOCATION:Escola Portuguesa de Macau\, Av. do Infante Dom Henrique\, Macau\, Macau
CATEGORIES:Escola
ATTACH;FMTTYPE=image/jpeg:https://www.epmacau.edu.mo/wp-content/uploads/2022/12/dia-anticorrup-scaled.jpg
END:VEVENT
BEGIN:VEVENT
DTSTART;VALUE=DATE:20221209
DTEND;VALUE=DATE:20221211
DTSTAMP:20260422T101301
CREATED:20221208T170109Z
LAST-MODIFIED:20221208T171316Z
UID:9968-1670572800-1670659199@www.epmacau.edu.mo
SUMMARY:Célébration du Noël
DESCRIPTION:
URL:https://www.epmacau.edu.mo/calendario-evento/celebration-du-noel/
LOCATION:Escola Portuguesa de Macau\, Av. do Infante Dom Henrique\, Macau\, Macau
CATEGORIES:Escola
END:VEVENT
BEGIN:VEVENT
DTSTART;VALUE=DATE:20221201
DTEND;VALUE=DATE:20221216
DTSTAMP:20260422T101301
CREATED:20221208T170807Z
LAST-MODIFIED:20221208T171221Z
UID:9973-1669881600-1671091199@www.epmacau.edu.mo
SUMMARY:Concurso de Conhecimento Geral
DESCRIPTION:
URL:https://www.epmacau.edu.mo/calendario-evento/concurso-de-conhecimento-geral/
LOCATION:Escola Portuguesa de Macau\, Av. do Infante Dom Henrique\, Macau\, Macau
CATEGORIES:Escola
END:VEVENT
BEGIN:VEVENT
DTSTART;TZID=Asia/Macau:20221019T060000
DTEND;TZID=Asia/Macau:20221020T060000
DTSTAMP:20260422T101301
CREATED:20220929T070410Z
LAST-MODIFIED:20221228T234836Z
UID:9878-1666159200-1666245600@www.epmacau.edu.mo
SUMMARY:Inscrição ACC 2022-2023
DESCRIPTION:[vc_row][vc_column][vc_column_text] \nAtividades de Complemento Curricular 2022-2023\nINSCRIÇÃO: 18 e 19 de outubro. (Online). ⇒Boletim de inscrição 22h00 do dia 18 (3a feira) às 22h00 do dia 19 (4a feira). \nAFIXAÇÃO DAS LISTAS PROVISÓRIAS: 21 de outubro no átrio da EPM (as colocações serão feitas pela ordem de entrada da inscrição). \nPAGAMENTO: 24 a 25 de outubro. \nAFIXAÇÃO DAS LISTAS DEFINITIVAS: 27 de outubro no átrio da EPM. \nINÍCIO DAS ATIVIDADES (ACC): 31 de outubro de 2022. \nFIM DAS ATIVIDADES (ACC): 3 de junho de 2023. (Deverá consultar os dias de cada ACC registados na Descrição das Atividades). \n⇒Clique no link para mais informações \nNOTE BEM: \n\nCaso submeta mais do que uma inscrição online\, será considerada válida a última inscrição.\nSe os alunos não efetuarem o pagamento\, não assegurarão a frequência na atividade e serão\nexcluídos da mesma\, cedendo a vaga a outros alunos interessados.\nEstas atividades\, que visam a realização pessoal dos alunos numa perspetiva de utilização\ncriativa e formativa dos seus tempos livres\, são de escolha livre\, devendo a sua frequência ser\nautorizada pelo Encarregado de Educação.\nA frequência torna-se obrigatória depois de assumido o compromisso de participação.\nOs professores/monitores farão uma avaliação qualitativa\, no final de cada período\, que será\nregistada no GIAE\, transmitida ao DT e aos EE.\nO número máximo de inscrições em Atividades de Complemento Curricular por aluno é de\nduas.\nCaso o professor/monitor não compareça a alguma aula\, o EE será reembolsado do valor da\nmesma.\nAs listas definitivas com o nome do aluno e das respetivas atividades de complemento\ncurricular serão afixadas no átrio da escola após a data de pagamento.\nO aluno tem direito à devolução do valor da matrícula até ao momento do início das aulas.\n\n[/vc_column_text][vc_column_text] \n課外活動報名 2022/2023  \n報名日期: 10 月 18 至 19 日(網上登記) ⇒ 報名表格  網上辦理時間:10 月 18 日(星期二)晚上 22:00 至 10 月 19 日(星期三)晚上 22:00 \n臨時名單張貼日期: 10 月 21 日 於學校大堂公佈(活動名額以先到先得的方式分配)。 繳交活動費用日期:10 月 24 至 25 日 \n確定名單張貼日期: 10 月 27 日 於學校大堂公佈 \n活動開始日期: 2022 年 10 月 31 日 \n活動結束日期: 2023 年 6 月 3 日(請於課外活動簡介查閱各項活動的上課日期) \n⇒可於下面連結查閱相關資訊  \n注意: \n\n如在網上遞交多於一次之登記申請本校將以最後之登記資料為準。\n如不繳付相關之活動費用學生將不能參加活動並將被刪除名單，讓出名額。\n活動目的為實現學生的自我價值並以有創意及培訓之形式利用餘暇.學生可自由選\n擇活動而其參與必須得到監護人的同意。\n確實活動報名後學生必須出席活動。\n活動導師將於每個學期為學生進行定性評估，結果將由班主任轉告學生的監護人。\n每位學生可報名參加最多2項活動。\n如活動導師因事缺課，學生可獲退還當日的活動費用。\n課外活動之確定名單(全年活動)將於繳款期後於學校大堂公佈。\n學生有權於活動開展前申請退回報名費。\n\n[/vc_column_text][/vc_column][/vc_row]
URL:https://www.epmacau.edu.mo/calendario-evento/inscricao-acc-2022-2023/
LOCATION:Escola Portuguesa de Macau\, Av. do Infante Dom Henrique\, Macau\, Macau
CATEGORIES:Escola
END:VEVENT
BEGIN:VEVENT
DTSTART;VALUE=DATE:20220301
DTEND;VALUE=DATE:20220309
DTSTAMP:20260422T101301
CREATED:20220105T005318Z
LAST-MODIFIED:20220227T184808Z
UID:2344-1646121600-1646726399@www.epmacau.edu.mo
SUMMARY:Inscrições para o Ano Letivo de 2022/2023 學年 學生註冊
DESCRIPTION:[vc_row][vc_column][vc_column_text]Informam-se os Senhores Encarregados de Educação que decorre de 1 a 7 de março o prazo de inscrição na Escola Portuguesa de Macau para o ano letivo de 2022/2023. \n\nAlunos da Escola Portuguesa que pretendam continuar a estudar na EPM no ano letivo de 2022/2023.\n\nPreenchimento do boletim de inscrição\, através da página eletrónica.\n\n\nAlunos de outras escolas que pretendam frequentar a Escola Portuguesa de Macau no ano letivo de 2022/2023.\n\nPreenchimento do boletim de inscrição\, através da página eletrónica.\nEntrega de documentos de avaliação e cópia do BIR.\n\n\nAlunos da Escola Portuguesa que no ano letivo de 2022/2023 pretendam pedir a transferência para outras escolas\, até 31 de julho.\n\nPreenchimento do boletim de transferência\nPagamento de $ 200\,00 para despesas de transferência.\n\n\n\nNOTA: \nA inscrição no 1º Ano não assegura obrigatoriamente a vaga. \nNo ensino secundário\, a escola não assegura a abertura dos cursos ou disciplinas que não tenham um número mínimo de alunos inscritos.\nPara informações sobre os cursos oferecidos pela EPM pode ser consultada a secretaria da escola ou a página da internet. \n  \n茲通知各位監護人本校2022/2023 學年的學生註冊手續將於本年3月1至7日進行辦理。 \n有意於2022/2023學年繼續報讀本校的學生需： \n\n於本校網站填寫註冊表；\n\n目前就讀其他學校而有意於2022/2023學年報讀本校的學生需：\n\n\n於本校網站填寫註冊表；\n\n遞交就學的證明文件 及 澳門居民身分證副本。\n有意於2022/2023學年本校轉校的學生\, 請於7月31日前：\n\n\n填寫轉校申請表;\n\n繳交 200元的手續費。\n\n\n\n備註： \n新登記一年級學生的學額有限，不保證報名的學生一定獲得錄取。 \n高中階段的課程及科目開辦與否須視乎學生的報名人數。 \n如欲了解更多有關本校提供的課程，可咨詢校務處或瀏覽本校網站。[/vc_column_text][/vc_column][/vc_row]
URL:https://www.epmacau.edu.mo/calendario-evento/inscricoes-para-o-ano-letivo-de-2022-2023-%e5%ad%b8%e5%b9%b4-%e5%ad%b8%e7%94%9f%e8%a8%bb%e5%86%8a/
LOCATION:Escola Portuguesa de Macau\, Av. do Infante Dom Henrique\, Macau\, Macau
CATEGORIES:Escola
ATTACH;FMTTYPE=image/png:https://www.epmacau.edu.mo/wp-content/uploads/2022/01/logo-Inscricoes.png
END:VEVENT
BEGIN:VEVENT
DTSTART;VALUE=DATE:20220222
DTEND;VALUE=DATE:20220224
DTSTAMP:20260422T101301
CREATED:20220217T013458Z
LAST-MODIFIED:20220217T013458Z
UID:2397-1645516800-1645603199@www.epmacau.edu.mo
SUMMARY:Ciclo de palestras “Ousa Pensar” -  Associação de Professores de Filosofia de Portugal
DESCRIPTION:[vc_row][vc_column][vc_column_text] \n\n\n\n\n\n\n\nCiclo de palestras que pretendem apresentar aos jovens estudantes do ensino secundário outras formas de conhecerem o pensamento filosófico.\nNúmero de inscrições é limitado (devido às medidas antiepidémicas – 50 inscrições).\n\n\n\n\n\n\n\n\n\n\n\n\n\n\n\n\n\n\n\n\n\n\n\n\n\n[/vc_column_text][/vc_column][/vc_row]
URL:https://www.epmacau.edu.mo/calendario-evento/ciclo-de-palestras-ousa-pensar-associacao-de-professores-de-filosofia-de-portugal/
LOCATION:Escola Portuguesa de Macau\, Av. do Infante Dom Henrique\, Macau\, Macau
CATEGORIES:Escola
ATTACH;FMTTYPE=image/jpeg:https://www.epmacau.edu.mo/wp-content/uploads/2022/02/6748CD9F-6BD6-45B6-B6BF-C1541F29F387-Sandra-Fonseca.jpeg
END:VEVENT
BEGIN:VEVENT
DTSTART;VALUE=DATE:20220201
DTEND;VALUE=DATE:20220206
DTSTAMP:20260422T101301
CREATED:20220126T010838Z
LAST-MODIFIED:20220126T011131Z
UID:2363-1643702400-1644047999@www.epmacau.edu.mo
SUMMARY:Ano Novo Lunar - Ano do Tigre
DESCRIPTION:[vc_row][vc_column][vc_single_image image=”2364″ img_size=”large”][/vc_column][/vc_row]
URL:https://www.epmacau.edu.mo/calendario-evento/ano-novo-lunar/
CATEGORIES:Escola
END:VEVENT
BEGIN:VEVENT
DTSTART;VALUE=DATE:20220112
DTEND;VALUE=DATE:20220115
DTSTAMP:20260422T101301
CREATED:20211110T220146Z
LAST-MODIFIED:20211124T192550Z
UID:2206-1641974400-1642147199@www.epmacau.edu.mo
SUMMARY:2.ª Eliminatória das XL Olimpíadas Portuguesas de Matemática
DESCRIPTION:[vc_row][vc_column][vc_column_text]As Olimpíadas Portuguesas de Matemática (OPM)\, organizadas anualmente pela Sociedade Portuguesa de Matemática\, são um concurso de problemas de Matemática\, dirigido aos estudantes dos 1.º\, 2.º e 3.º ciclos do ensino básico e também aos que frequentam o ensino secundário\, que visa incentivar e desenvolver o gosto pela Matemática. \nOs problemas propostos neste concurso fazem sobretudo apelo à qualidade do raciocínio\, à criatividade e à imaginação dos estudantes. São factores importantes na determinação das classificações o rigor lógico\, a clareza da exposição e a elegância da resolução.[/vc_column_text][vc_single_image image=”2207″ img_size=”large” alignment=”center”][/vc_column][/vc_row]
URL:https://www.epmacau.edu.mo/calendario-evento/2206/
LOCATION:Escola Portuguesa de Macau\, Av. do Infante Dom Henrique\, Macau\, Macau
CATEGORIES:Escola
END:VEVENT
BEGIN:VEVENT
DTSTART;VALUE=DATE:20211213
DTEND;VALUE=DATE:20211218
DTSTAMP:20260422T101301
CREATED:20211129T015023Z
LAST-MODIFIED:20211129T015023Z
UID:2307-1639382400-1639727999@www.epmacau.edu.mo
SUMMARY:Cânticos de Natal em Francês
DESCRIPTION:
URL:https://www.epmacau.edu.mo/calendario-evento/canticos-de-natal-em-frances/
LOCATION:Escola Portuguesa de Macau\, Av. do Infante Dom Henrique\, Macau\, Macau
CATEGORIES:Escola
END:VEVENT
BEGIN:VEVENT
DTSTART;VALUE=DATE:20211211
DTEND;VALUE=DATE:20211213
DTSTAMP:20260422T101301
CREATED:20211129T014930Z
LAST-MODIFIED:20211129T014930Z
UID:2304-1639209600-1639295999@www.epmacau.edu.mo
SUMMARY:Bouldering Contest
DESCRIPTION:[vc_row][vc_column][vc_column_text]Atividade de escalada no 4º Macau Bouldering Contest.[/vc_column_text][/vc_column][/vc_row]
URL:https://www.epmacau.edu.mo/calendario-evento/bouldering-contest/
LOCATION:Solution Climbing Gym
CATEGORIES:Escola
END:VEVENT
BEGIN:VEVENT
DTSTART;VALUE=DATE:20211210
DTEND;VALUE=DATE:20211214
DTSTAMP:20260422T101301
CREATED:20211129T014731Z
LAST-MODIFIED:20211129T014731Z
UID:2299-1639123200-1639382399@www.epmacau.edu.mo
SUMMARY:Festa da Lusofonia
DESCRIPTION:[vc_row][vc_column][vc_column_text]Participação da Banda da EPM\, do Grupo de Danças Tradicionais Folclóricas Portuguesas e do Grupo de Danças Modernas[/vc_column_text][/vc_column][/vc_row]
URL:https://www.epmacau.edu.mo/calendario-evento/festa-da-lusofonia/
LOCATION:Casas Museu da Taipa\, Estr. de Cacilhas\, Macao\, Macau - Taipa\, Macau
CATEGORIES:Escola
END:VEVENT
BEGIN:VEVENT
DTSTART;VALUE=DATE:20211210
DTEND;VALUE=DATE:20211212
DTSTAMP:20260422T101301
CREATED:20211129T012804Z
LAST-MODIFIED:20211129T012804Z
UID:2297-1639123200-1639209599@www.epmacau.edu.mo
SUMMARY:Realização do Julgamento: Um caso de corrupção
DESCRIPTION:
URL:https://www.epmacau.edu.mo/calendario-evento/realizacao-do-julgamento-um-caso-de-corrupcao/
LOCATION:Escola Portuguesa de Macau\, Av. do Infante Dom Henrique\, Macau\, Macau
CATEGORIES:Escola
END:VEVENT
BEGIN:VEVENT
DTSTART;VALUE=DATE:20211209
DTEND;VALUE=DATE:20211212
DTSTAMP:20260422T101301
CREATED:20211129T003253Z
LAST-MODIFIED:20211129T003253Z
UID:2293-1639036800-1639209599@www.epmacau.edu.mo
SUMMARY:“Escola em Ação = Menos corrupção”
DESCRIPTION:[vc_row][vc_column][vc_column_text]Inauguração da Exposição: “Escola em Ação = Menos corrupção”\nExposição de cartazes/trabalhos sobre os Direitos Humanos – Anticorrupção\n09/12 – Dia Internacional contra a corrupção\n10/12 – Dia mundial dos Direitos Humanos[/vc_column_text][/vc_column][/vc_row]
URL:https://www.epmacau.edu.mo/calendario-evento/escola-em-acao-menos-corrupcao/
LOCATION:Escola Portuguesa de Macau\, Av. do Infante Dom Henrique\, Macau\, Macau
CATEGORIES:Escola
ATTACH;FMTTYPE=image/png:https://www.epmacau.edu.mo/wp-content/uploads/2021/11/Asset-5Anticurrupcao.png
END:VEVENT
BEGIN:VEVENT
DTSTART;VALUE=DATE:20211207
DTEND;VALUE=DATE:20211215
DTSTAMP:20260422T101301
CREATED:20211128T235222Z
LAST-MODIFIED:20211129T001645Z
UID:2291-1638864000-1639468799@www.epmacau.edu.mo
SUMMARY:A hora do Código
DESCRIPTION:[vc_row][vc_column][vc_column_text]Introdução de 1 hora à Ciência da Computação e Programação de computadores.[/vc_column_text][/vc_column][/vc_row]
URL:https://www.epmacau.edu.mo/calendario-evento/a-hora-do-codigo/
LOCATION:Escola Portuguesa de Macau\, Av. do Infante Dom Henrique\, Macau\, Macau
CATEGORIES:Escola
END:VEVENT
BEGIN:VEVENT
DTSTART;VALUE=DATE:20211204
DTEND;VALUE=DATE:20211206
DTSTAMP:20260422T101301
CREATED:20211128T235021Z
LAST-MODIFIED:20211128T235021Z
UID:2290-1638604800-1638691199@www.epmacau.edu.mo
SUMMARY:Festa de Natal do 1º Ciclo
DESCRIPTION:
URL:https://www.epmacau.edu.mo/calendario-evento/festa-de-natal-do-1o-ciclo/
LOCATION:Ginásio da EPM\, Av. do Infante Dom Henrique\, Macau\, Macau
CATEGORIES:Escola
END:VEVENT
BEGIN:VEVENT
DTSTART;VALUE=DATE:20211203
DTEND;VALUE=DATE:20211205
DTSTAMP:20260422T101301
CREATED:20211201T203122Z
LAST-MODIFIED:20211201T203122Z
UID:2333-1638518400-1638604799@www.epmacau.edu.mo
SUMMARY:Semana Jurídica
DESCRIPTION:[vc_row][vc_column][vc_column_text]“Vamos falar de Direito?”[/vc_column_text][/vc_column][/vc_row]
URL:https://www.epmacau.edu.mo/calendario-evento/semana-juridica/
LOCATION:Escola Portuguesa de Macau\, Av. do Infante Dom Henrique\, Macau\, Macau
CATEGORIES:Escola
ATTACH;FMTTYPE=image/jpeg:https://www.epmacau.edu.mo/wp-content/uploads/2021/12/semjur.jpeg
END:VEVENT
BEGIN:VEVENT
DTSTART;VALUE=DATE:20211203
DTEND;VALUE=DATE:20211205
DTSTAMP:20260422T101301
CREATED:20211128T234930Z
LAST-MODIFIED:20211128T234930Z
UID:2289-1638518400-1638604799@www.epmacau.edu.mo
SUMMARY:Palestra sobre a Lei Básica de Macau e Corrupção
DESCRIPTION:[vc_row][vc_column][vc_column_text]Palestra sobre a Lei Básica de Macau e Corrupção pelo Juiz Carlos Lobo[/vc_column_text][/vc_column][/vc_row]
URL:https://www.epmacau.edu.mo/calendario-evento/palestra-sobre-a-lei-basica-de-macau-e-corrupcao/
LOCATION:Auditório da EPM\, Av. do Infante Dom Henrique\, Macau\, Macau
CATEGORIES:Escola
END:VEVENT
BEGIN:VEVENT
DTSTART;VALUE=DATE:20211201
DTEND;VALUE=DATE:20211203
DTSTAMP:20260422T101301
CREATED:20211128T234452Z
LAST-MODIFIED:20211128T234452Z
UID:2286-1638345600-1638431999@www.epmacau.edu.mo
SUMMARY:Dia Mundial da Luta Contra a SIDA
DESCRIPTION:[vc_row][vc_column][vc_column_text]Palestras pelos alunos de Biologia do 12º A.\nApresentação Multimédia no Átrio principal da EPM.[/vc_column_text][/vc_column][/vc_row]
URL:https://www.epmacau.edu.mo/calendario-evento/dia-mundial-da-luta-contra-a-sida/
LOCATION:Escola Portuguesa de Macau\, Av. do Infante Dom Henrique\, Macau\, Macau
CATEGORIES:Escola
END:VEVENT
BEGIN:VEVENT
DTSTART;VALUE=DATE:20211126
DTEND;VALUE=DATE:20211128
DTSTAMP:20260422T101301
CREATED:20211201T202442Z
LAST-MODIFIED:20211201T202442Z
UID:2311-1637913600-1637999999@www.epmacau.edu.mo
SUMMARY:Exposição - Dia Mundial da Filosofia
DESCRIPTION:[vc_row][vc_column][vc_gallery type=”image_grid” images=”2319\,2320\,2321\,2322″][/vc_column][/vc_row]
URL:https://www.epmacau.edu.mo/calendario-evento/exposicao-dia-mundial-da-filosofia/
LOCATION:Escola Portuguesa de Macau\, Av. do Infante Dom Henrique\, Macau\, Macau
CATEGORIES:Escola
END:VEVENT
BEGIN:VEVENT
DTSTART;VALUE=DATE:20211125
DTEND;VALUE=DATE:20211202
DTSTAMP:20260422T101301
CREATED:20211124T192416Z
LAST-MODIFIED:20211124T192416Z
UID:2252-1637827200-1638345599@www.epmacau.edu.mo
SUMMARY:Thanksgiving exhibition
DESCRIPTION:[vc_row][vc_column][vc_column_text]In the spirit of Thanksgiving EPM students share what they are thankful for. The students’ works displayed in the exhibition show that children are truly aware of the people\, things and opportunities they appreciate. From education to teachers\, from science to clean air\, children expressed their gratitude through art.[/vc_column_text][/vc_column][/vc_row][vc_row][vc_column][vc_gallery type=”nivo” interval=”3″ images=”2279\,2278\,2277\,2270\,2267\,2266\,2265″][/vc_column][/vc_row]
URL:https://www.epmacau.edu.mo/calendario-evento/thanksgiving-exhibition/
LOCATION:Escola Portuguesa de Macau\, Av. do Infante Dom Henrique\, Macau\, Macau
END:VEVENT
BEGIN:VEVENT
DTSTART;VALUE=DATE:20211119
DTEND;VALUE=DATE:20211121
DTSTAMP:20260422T101301
CREATED:20211201T202928Z
LAST-MODIFIED:20211201T202928Z
UID:2326-1637308800-1637395199@www.epmacau.edu.mo
SUMMARY:Palestra “Filosofia e Cinema”\, Maxim Bessemertny
DESCRIPTION:[vc_row][vc_column][vc_gallery type=”image_grid” images=”2327\,2319\,2317\,2320″][/vc_column][/vc_row]
URL:https://www.epmacau.edu.mo/calendario-evento/palestra-filosofia-e-cinema-maxim-bessemertny/
LOCATION:Escola Portuguesa de Macau\, Av. do Infante Dom Henrique\, Macau\, Macau
CATEGORIES:Escola
END:VEVENT
BEGIN:VEVENT
DTSTART;VALUE=DATE:20211115
DTEND;VALUE=DATE:20211128
DTSTAMP:20260422T101301
CREATED:20211123T182750Z
LAST-MODIFIED:20211123T183031Z
UID:2246-1636963200-1637999999@www.epmacau.edu.mo
SUMMARY:Dia Mundial da Filosofia
DESCRIPTION:[vc_row][vc_column][vc_gallery type=”flexslider_slide” interval=”3″ images=”2245\,2244\,2243\,2242\,2241″][/vc_column][/vc_row]
URL:https://www.epmacau.edu.mo/calendario-evento/dia-mundial-da-filosofia/
LOCATION:Escola Portuguesa de Macau\, Av. do Infante Dom Henrique\, Macau\, Macau
CATEGORIES:Escola
END:VEVENT
BEGIN:VEVENT
DTSTART;VALUE=DATE:20211023
DTEND;VALUE=DATE:20211025
DTSTAMP:20260422T101301
CREATED:20211022T013149Z
LAST-MODIFIED:20211022T014037Z
UID:2160-1634947200-1635119999@www.epmacau.edu.mo
SUMMARY:Exposição do Ensino Superior do Interior da China e de Macau
DESCRIPTION:[vc_row][vc_column][vc_gallery type=”image_grid” images=”2162\,2163\,2164″][/vc_column][/vc_row]
URL:https://www.epmacau.edu.mo/calendario-evento/exposicao-do-ensino-superior-do-interior-da-china-e-de-macau/
LOCATION:http://es.dsedj.gov.mo/ees/pt/home.html
CATEGORIES:Escola
ATTACH;FMTTYPE=image/jpeg:https://www.epmacau.edu.mo/wp-content/uploads/2021/10/540x410.jpg
END:VEVENT
BEGIN:VEVENT
DTSTART;VALUE=DATE:20211008
DTEND;VALUE=DATE:20211010
DTSTAMP:20260422T101301
CREATED:20210107T005712Z
LAST-MODIFIED:20210629T010413Z
UID:1533-1633680000-1633766399@www.epmacau.edu.mo
SUMMARY:Resultados dos processos de reapreciação 2ª Fase – Secundário
DESCRIPTION:
URL:https://www.epmacau.edu.mo/calendario-evento/resultados-dos-processos-de-reapreciacao-2a-fase-secundario/
LOCATION:Escola Portuguesa de Macau\, Av. do Infante Dom Henrique\, Macau\, Macau
CATEGORIES:Exames
END:VEVENT
BEGIN:VEVENT
DTSTART;VALUE=DATE:20210916
DTEND;VALUE=DATE:20210918
DTSTAMP:20260422T101301
CREATED:20210107T005610Z
LAST-MODIFIED:20210629T010210Z
UID:1532-1631779200-1631865599@www.epmacau.edu.mo
SUMMARY:Pautas dos Exames Nacionais 2ª Fase – Secundário
DESCRIPTION:
URL:https://www.epmacau.edu.mo/calendario-evento/pautas-dos-exames-nacionais-2a-fase-secundario/
LOCATION:Escola Portuguesa de Macau\, Av. do Infante Dom Henrique\, Macau\, Macau
CATEGORIES:Exames
END:VEVENT
BEGIN:VEVENT
DTSTART;TZID=Asia/Macau:20210908T050000
DTEND;TZID=Asia/Macau:20210908T073000
DTSTAMP:20260422T101301
CREATED:20210107T005512Z
LAST-MODIFIED:20210629T010821Z
UID:1531-1631077200-1631086200@www.epmacau.edu.mo
SUMMARY:Exame 2ª Fase de Espanhol (847) - 11º Ano
DESCRIPTION:
URL:https://www.epmacau.edu.mo/calendario-evento/exame-2a-fase-de-espanhol-847-11o-ano/
LOCATION:Escola Portuguesa de Macau\, Av. do Infante Dom Henrique\, Macau\, Macau
CATEGORIES:Exames
END:VEVENT
BEGIN:VEVENT
DTSTART;TZID=Asia/Macau:20210908T050000
DTEND;TZID=Asia/Macau:20210908T073000
DTSTAMP:20260422T101301
CREATED:20210107T005438Z
LAST-MODIFIED:20210629T010825Z
UID:1530-1631077200-1631086200@www.epmacau.edu.mo
SUMMARY:Exame 2ª Fase de Francês (517) - 11º Ano
DESCRIPTION:
URL:https://www.epmacau.edu.mo/calendario-evento/exame-2a-fase-de-frances-517-11o-ano/
LOCATION:Escola Portuguesa de Macau\, Av. do Infante Dom Henrique\, Macau\, Macau
CATEGORIES:Exames
END:VEVENT
BEGIN:VEVENT
DTSTART;TZID=Asia/Macau:20210908T050000
DTEND;TZID=Asia/Macau:20210908T073000
DTSTAMP:20260422T101301
CREATED:20210107T005357Z
LAST-MODIFIED:20210629T010905Z
UID:1529-1631077200-1631086200@www.epmacau.edu.mo
SUMMARY:Exame 2ª Fase de Espanhol (547) - 11º Ano
DESCRIPTION:
URL:https://www.epmacau.edu.mo/calendario-evento/exame-2a-fase-de-espanhol-547-11o-ano/
LOCATION:Escola Portuguesa de Macau\, Av. do Infante Dom Henrique\, Macau\, Macau
CATEGORIES:Exames
END:VEVENT
BEGIN:VEVENT
DTSTART;TZID=Asia/Macau:20210908T050000
DTEND;TZID=Asia/Macau:20210908T073000
DTSTAMP:20260422T101301
CREATED:20210107T005326Z
LAST-MODIFIED:20210629T010926Z
UID:1528-1631077200-1631086200@www.epmacau.edu.mo
SUMMARY:Exame 2ª Fase de Alemão (501) - 11º Ano
DESCRIPTION:
URL:https://www.epmacau.edu.mo/calendario-evento/exame-2a-fase-de-alemao-501-11o-ano/
LOCATION:Escola Portuguesa de Macau\, Av. do Infante Dom Henrique\, Macau\, Macau
CATEGORIES:Exames
END:VEVENT
END:VCALENDAR