BEGIN:VCALENDAR
VERSION:2.0
PRODID:-//EPM - ECPv6.15.17//NONSGML v1.0//EN
CALSCALE:GREGORIAN
METHOD:PUBLISH
X-ORIGINAL-URL:https://www.epmacau.edu.mo
X-WR-CALDESC:Eventos para EPM
REFRESH-INTERVAL;VALUE=DURATION:PT1H
X-Robots-Tag:noindex
X-PUBLISHED-TTL:PT1H
BEGIN:VTIMEZONE
TZID:Asia/Macau
BEGIN:STANDARD
TZOFFSETFROM:+0800
TZOFFSETTO:+0800
TZNAME:CST
DTSTART:20190101T000000
END:STANDARD
END:VTIMEZONE
BEGIN:VEVENT
DTSTART;VALUE=DATE:20201019
DTEND;VALUE=DATE:20201021
DTSTAMP:20260423T124726
CREATED:20210104T192109Z
LAST-MODIFIED:20210104T192109Z
UID:1218-1603094400-1603180799@www.epmacau.edu.mo
SUMMARY:Início das Atividades Extracurriculares
DESCRIPTION:Alunos da EPM
URL:https://www.epmacau.edu.mo/calendario-evento/inicio-das-atividades-extracurriculares/
LOCATION:Escola Portuguesa de Macau\, Av. do Infante Dom Henrique\, Macau\, Macau
CATEGORIES:Escola
END:VEVENT
BEGIN:VEVENT
DTSTART;VALUE=DATE:20201018
DTEND;VALUE=DATE:20201020
DTSTAMP:20260423T124726
CREATED:20210104T191849Z
LAST-MODIFIED:20210104T191849Z
UID:1216-1603008000-1603094399@www.epmacau.edu.mo
SUMMARY:Campeonato Escolar de Voleibol VS Escola Perpétuo Socorro Chan Sui Ki
DESCRIPTION:
URL:https://www.epmacau.edu.mo/calendario-evento/campeonato-escolar-de-voleibol-vs-escola-perpetuo-socorro-chan-sui-ki/
LOCATION:Escola Cham Son
CATEGORIES:Escola
END:VEVENT
BEGIN:VEVENT
DTSTART;VALUE=DATE:20201018
DTEND;VALUE=DATE:20201020
DTSTAMP:20260423T124726
CREATED:20210104T191224Z
LAST-MODIFIED:20210104T191224Z
UID:1214-1603008000-1603094399@www.epmacau.edu.mo
SUMMARY:Campeonato Escolar de Basquetebol VS Escola Secundária Técnico-Profissional da Federação das Associações dos Operários de Macau
DESCRIPTION:
URL:https://www.epmacau.edu.mo/calendario-evento/campeonato-escolar-de-basquetebol-vs-escola-secundaria-tecnico-profissional-da-federacao-das-associacoes-dos-operarios-de-macau/
LOCATION:Escola Luso-Chinesa Técnico-Profissional\, Rua 1 de Maio\, Bairro da Areia Preta\, Macau\, Macau
CATEGORIES:Escola
END:VEVENT
BEGIN:VEVENT
DTSTART;VALUE=DATE:20201017
DTEND;VALUE=DATE:20201019
DTSTAMP:20260423T124726
CREATED:20210104T190928Z
LAST-MODIFIED:20210104T200913Z
UID:1211-1602921600-1603007999@www.epmacau.edu.mo
SUMMARY:23º Festival da Lusofonia
DESCRIPTION:Participação do Grupo de Danças Tradicionais Folclóricas Portuguesas da EPM
URL:https://www.epmacau.edu.mo/calendario-evento/23o-festival-da-lusofonia/
LOCATION:Casas Museu\, Estr. de Cacilhas\, Taipa\, Macau
CATEGORIES:Escola
END:VEVENT
BEGIN:VEVENT
DTSTART;VALUE=DATE:20201017
DTEND;VALUE=DATE:20201019
DTSTAMP:20260423T124726
CREATED:20210104T190809Z
LAST-MODIFIED:20210104T190809Z
UID:1210-1602921600-1603007999@www.epmacau.edu.mo
SUMMARY:Dia do Não Fumador
DESCRIPTION:Alunos do 6º ao 9º ano
URL:https://www.epmacau.edu.mo/calendario-evento/dia-do-nao-fumador/
LOCATION:Escola Portuguesa de Macau\, Av. do Infante Dom Henrique\, Macau\, Macau
CATEGORIES:Escola
END:VEVENT
BEGIN:VEVENT
DTSTART;VALUE=DATE:20201016
DTEND;VALUE=DATE:20201018
DTSTAMP:20260423T124726
CREATED:20210104T190720Z
LAST-MODIFIED:20210104T190720Z
UID:1208-1602835200-1602921599@www.epmacau.edu.mo
SUMMARY:Concurso do âmbito do Dia Mundial da Alimentação .
DESCRIPTION:Alunos do 5º e 6º ano.
URL:https://www.epmacau.edu.mo/calendario-evento/concurso-do-ambito-do-dia-mundial-da-alimentacao/
LOCATION:Escola Portuguesa de Macau\, Av. do Infante Dom Henrique\, Macau\, Macau
CATEGORIES:Escola
END:VEVENT
BEGIN:VEVENT
DTSTART;VALUE=DATE:20201016
DTEND;VALUE=DATE:20201018
DTSTAMP:20260423T124726
CREATED:20210104T190528Z
LAST-MODIFIED:20210104T190538Z
UID:1207-1602835200-1602921599@www.epmacau.edu.mo
SUMMARY:Dia Mundial da Alimentação
DESCRIPTION:Todos os alunos do Primeiro Ciclo
URL:https://www.epmacau.edu.mo/calendario-evento/dia-mundial-da-alimentacao/
LOCATION:Escola Portuguesa de Macau\, Av. do Infante Dom Henrique\, Macau\, Macau
CATEGORIES:Escola
END:VEVENT
BEGIN:VEVENT
DTSTART;VALUE=DATE:20201013
DTEND;VALUE=DATE:20201015
DTSTAMP:20260423T124726
CREATED:20210104T190449Z
LAST-MODIFIED:20210104T190449Z
UID:1205-1602576000-1602662399@www.epmacau.edu.mo
SUMMARY:Exposição de Painéis dos Serviços de Saúde de Macau sobre Prevenção do Tabagismo.
DESCRIPTION:Alunos do 3º ao 12º ano.
URL:https://www.epmacau.edu.mo/calendario-evento/exposicao-de-paineis-dos-servicos-de-saude-de-macau-sobre-prevencao-do-tabagismo/
LOCATION:Escola Portuguesa de Macau\, Av. do Infante Dom Henrique\, Macau\, Macau
CATEGORIES:Escola
END:VEVENT
BEGIN:VEVENT
DTSTART;TZID=Asia/Macau:20201010T180000
DTEND;TZID=Asia/Macau:20201010T200000
DTSTAMP:20260423T124726
CREATED:20210104T190156Z
LAST-MODIFIED:20210104T190156Z
UID:1202-1602352800-1602360000@www.epmacau.edu.mo
SUMMARY:Recolha de plástico e papel/cartão
DESCRIPTION:Alunos da EPM
URL:https://www.epmacau.edu.mo/calendario-evento/recolha-de-plastico-e-papel-cartao/
LOCATION:Escola Portuguesa de Macau\, Av. do Infante Dom Henrique\, Macau\, Macau
CATEGORIES:Escola
END:VEVENT
BEGIN:VEVENT
DTSTART;VALUE=DATE:20201010
DTEND;VALUE=DATE:20201012
DTSTAMP:20260423T124726
CREATED:20210104T190249Z
LAST-MODIFIED:20210104T190249Z
UID:1203-1602316800-1602403199@www.epmacau.edu.mo
SUMMARY:Visionamento de Documentário sobre o plástico na China
DESCRIPTION:Seguido de Palestra com o Professor Doutor David Gonçalves da USJ.
URL:https://www.epmacau.edu.mo/calendario-evento/visionamento-de-documentario-sobre-o-plastico-na-china/
LOCATION:Escola Portuguesa de Macau\, Av. do Infante Dom Henrique\, Macau\, Macau
CATEGORIES:Escola
END:VEVENT
BEGIN:VEVENT
DTSTART;TZID=Asia/Macau:20201009T160000
DTEND;TZID=Asia/Macau:20201104T010000
DTSTAMP:20260423T124726
CREATED:20210104T190058Z
LAST-MODIFIED:20210104T190058Z
UID:1200-1602259200-1604451600@www.epmacau.edu.mo
SUMMARY:1ª Campanha de Pesquisa de Asteróides
DESCRIPTION:Alunos do Clube de Astronomia; Professores e Encarregados de Educação na Equipa EPM
URL:https://www.epmacau.edu.mo/calendario-evento/1a-campanha-de-pesquisa-de-asteroides/
LOCATION:Escola Portuguesa de Macau\, Av. do Infante Dom Henrique\, Macau\, Macau
CATEGORIES:Escola
END:VEVENT
BEGIN:VEVENT
DTSTART;VALUE=DATE:20201006
DTEND;VALUE=DATE:20201008
DTSTAMP:20260423T124726
CREATED:20210104T185937Z
LAST-MODIFIED:20210104T185948Z
UID:1199-1601971200-1602057599@www.epmacau.edu.mo
SUMMARY:Início da AEC de Voleibol AB\, feminino
DESCRIPTION:Alunos da AEC de Voleibol AB
URL:https://www.epmacau.edu.mo/calendario-evento/inicio-da-aec-de-voleibol-ab-feminino/
LOCATION:Escola Portuguesa de Macau\, Av. do Infante Dom Henrique\, Macau\, Macau
CATEGORIES:Escola
END:VEVENT
BEGIN:VEVENT
DTSTART;VALUE=DATE:20201006
DTEND;VALUE=DATE:20201008
DTSTAMP:20260423T124726
CREATED:20210104T185833Z
LAST-MODIFIED:20210104T185833Z
UID:1196-1601971200-1602057599@www.epmacau.edu.mo
SUMMARY:Início dos cursos pós-letivos de Português Língua Estrangeira promovidos pelo CDL e pela DSEJ.
DESCRIPTION:Alunos de escolas de Macau cuja língua materna não é o Portugês
URL:https://www.epmacau.edu.mo/calendario-evento/inicio-dos-cursos-pos-letivos-de-portugues-lingua-estrangeira-promovidos-pelo-cdl-e-pela-dsej/
LOCATION:Escola Portuguesa de Macau\, Av. do Infante Dom Henrique\, Macau\, Macau
CATEGORIES:Escola
END:VEVENT
BEGIN:VEVENT
DTSTART;VALUE=DATE:20201006
DTEND;VALUE=DATE:20201008
DTSTAMP:20260423T124726
CREATED:20210104T185738Z
LAST-MODIFIED:20210104T185738Z
UID:1195-1601971200-1602057599@www.epmacau.edu.mo
SUMMARY:5 de outubro de 1910
DESCRIPTION:Implantação da República Portuguesa
URL:https://www.epmacau.edu.mo/calendario-evento/5-de-outubro-de-1910/
LOCATION:Escola Portuguesa de Macau\, Av. do Infante Dom Henrique\, Macau\, Macau
CATEGORIES:Escola
END:VEVENT
BEGIN:VEVENT
DTSTART;VALUE=DATE:20200930
DTEND;VALUE=DATE:20201002
DTSTAMP:20260423T124726
CREATED:20210104T185641Z
LAST-MODIFIED:20210104T185641Z
UID:1193-1601452800-1601539199@www.epmacau.edu.mo
SUMMARY:Início da AEC de Futebol B
DESCRIPTION:
URL:https://www.epmacau.edu.mo/calendario-evento/inicio-da-aec-de-futebol-b/
LOCATION:Escola Portuguesa de Macau\, Av. do Infante Dom Henrique\, Macau\, Macau
CATEGORIES:Escola
END:VEVENT
BEGIN:VEVENT
DTSTART;TZID=Asia/Macau:20200928T160000
DTEND;TZID=Asia/Macau:20201001T010000
DTSTAMP:20260423T124726
CREATED:20210104T185552Z
LAST-MODIFIED:20210104T185552Z
UID:1192-1601308800-1601514000@www.epmacau.edu.mo
SUMMARY:Chong Chao: Lenda e tradições
DESCRIPTION:Proclamação da República Popular da China
URL:https://www.epmacau.edu.mo/calendario-evento/chong-chao-lenda-e-tradicoes/
LOCATION:Escola Portuguesa de Macau\, Av. do Infante Dom Henrique\, Macau\, Macau
CATEGORIES:Escola
END:VEVENT
BEGIN:VEVENT
DTSTART;VALUE=DATE:20200926
DTEND;VALUE=DATE:20200928
DTSTAMP:20260423T124726
CREATED:20210104T185509Z
LAST-MODIFIED:20210104T185509Z
UID:1190-1601107200-1601193599@www.epmacau.edu.mo
SUMMARY:Dia de Atividades Desportivas
DESCRIPTION:Alunos dos 5º e 6º Anos
URL:https://www.epmacau.edu.mo/calendario-evento/dia-de-atividades-desportivas/
LOCATION:Escola Portuguesa de Macau\, Av. do Infante Dom Henrique\, Macau\, Macau
CATEGORIES:Escola
END:VEVENT
BEGIN:VEVENT
DTSTART;VALUE=DATE:20200925
DTEND;VALUE=DATE:20200927
DTSTAMP:20260423T124726
CREATED:20210104T185309Z
LAST-MODIFIED:20210104T185309Z
UID:1187-1601020800-1601107199@www.epmacau.edu.mo
SUMMARY:“Mata Curiosidades”
DESCRIPTION:Alunos do 5o C e 12o B e C
URL:https://www.epmacau.edu.mo/calendario-evento/mata-curiosidades/
LOCATION:Escola Portuguesa de Macau\, Av. do Infante Dom Henrique\, Macau\, Macau
CATEGORIES:Escola
END:VEVENT
BEGIN:VEVENT
DTSTART;VALUE=DATE:20200925
DTEND;VALUE=DATE:20200927
DTSTAMP:20260423T124726
CREATED:20210104T185035Z
LAST-MODIFIED:20210104T185129Z
UID:1184-1601020800-1601107199@www.epmacau.edu.mo
SUMMARY:Sessão de esclarecimento com a Presidente da Associação MASDOW
DESCRIPTION:Alunos do 7o ano
URL:https://www.epmacau.edu.mo/calendario-evento/sessao-de-esclarecimento-com-a-presidente-da-associacao-masdow/
LOCATION:Auditório da EPM\, Av. do Infante Dom Henrique\, Macau\, Macau
CATEGORIES:Escola
END:VEVENT
BEGIN:VEVENT
DTSTART;VALUE=DATE:20200925
DTEND;VALUE=DATE:20200927
DTSTAMP:20260423T124726
CREATED:20210104T184933Z
LAST-MODIFIED:20210104T184933Z
UID:1181-1601020800-1601107199@www.epmacau.edu.mo
SUMMARY:Campanha de Angariação de Fundos para a “MASDAW”. Sessão sobre a Problemática do Abandono dos Animais.
DESCRIPTION:
URL:https://www.epmacau.edu.mo/calendario-evento/campanha-de-angariacao-de-fundos-para-a-masdaw-sessao-sobre-a-problematica-do-abandono-dos-animais/
LOCATION:Escola Portuguesa de Macau\, Av. do Infante Dom Henrique\, Macau\, Macau
CATEGORIES:Escola
END:VEVENT
BEGIN:VEVENT
DTSTART;VALUE=DATE:20200924
DTEND;VALUE=DATE:20200926
DTSTAMP:20260423T124726
CREATED:20210104T184821Z
LAST-MODIFIED:20210104T184821Z
UID:1179-1600934400-1601020799@www.epmacau.edu.mo
SUMMARY:Festa do Bolo Lunar
DESCRIPTION:
URL:https://www.epmacau.edu.mo/calendario-evento/festa-do-bolo-lunar/
LOCATION:Escola Portuguesa de Macau\, Av. do Infante Dom Henrique\, Macau\, Macau
CATEGORIES:Escola
END:VEVENT
BEGIN:VEVENT
DTSTART;TZID=Asia/Macau:20200923T160000
DTEND;TZID=Asia/Macau:20201001T010000
DTSTAMP:20260423T124726
CREATED:20210104T184748Z
LAST-MODIFIED:20210104T184748Z
UID:1177-1600876800-1601514000@www.epmacau.edu.mo
SUMMARY:Venda de rifas para a Campanha de angariação de fundos para a Associação de Proteção dos Animais - MASDAW
DESCRIPTION:
URL:https://www.epmacau.edu.mo/calendario-evento/venda-de-rifas-para-a-campanha-de-angariacao-de-fundos-para-a-associacao-de-protecao-dos-animais-masdaw/
LOCATION:Escola Portuguesa de Macau\, Av. do Infante Dom Henrique\, Macau\, Macau
CATEGORIES:Escola
END:VEVENT
BEGIN:VEVENT
DTSTART;TZID=Asia/Macau:20200923T160000
DTEND;TZID=Asia/Macau:20201001T010000
DTSTAMP:20260423T124726
CREATED:20210104T184711Z
LAST-MODIFIED:20210104T184711Z
UID:1176-1600876800-1601514000@www.epmacau.edu.mo
SUMMARY:Campanha de angariação de fundos para a Associação de Proteção dos Animais - MASDAW
DESCRIPTION:
URL:https://www.epmacau.edu.mo/calendario-evento/campanha-de-angariacao-de-fundos-para-a-associacao-de-protecao-dos-animais-masdaw/
LOCATION:Escola Portuguesa de Macau\, Av. do Infante Dom Henrique\, Macau\, Macau
CATEGORIES:Escola
END:VEVENT
BEGIN:VEVENT
DTSTART;VALUE=DATE:20200923
DTEND;VALUE=DATE:20200925
DTSTAMP:20260423T124726
CREATED:20210104T184553Z
LAST-MODIFIED:20210104T184553Z
UID:1175-1600848000-1600934399@www.epmacau.edu.mo
SUMMARY:Equinócio de Outono: Cores e atividades
DESCRIPTION:Todos os alunos do Primeiro Ciclo
URL:https://www.epmacau.edu.mo/calendario-evento/equinocio-de-outono-cores-e-atividades/
LOCATION:Escola Portuguesa de Macau\, Av. do Infante Dom Henrique\, Macau\, Macau
CATEGORIES:Escola
END:VEVENT
BEGIN:VEVENT
DTSTART;VALUE=DATE:20200922
DTEND;VALUE=DATE:20200924
DTSTAMP:20260423T124726
CREATED:20210104T184211Z
LAST-MODIFIED:20210104T184211Z
UID:1169-1600761600-1600847999@www.epmacau.edu.mo
SUMMARY:Início das AECs de Basquetebol AB Feminino e Masculino
DESCRIPTION:Alunos das equipas de Basquetebol Feminino e Masculino da EPM\, Escalão A.
URL:https://www.epmacau.edu.mo/calendario-evento/inicio-das-aecs-de-basquetebol-ab-feminino-e-masculino/
LOCATION:Campo de Basquetebol da EPM\, Av. do Infante Dom Henrique\, Macau\, Macau
CATEGORIES:Escola
END:VEVENT
BEGIN:VEVENT
DTSTART;TZID=Asia/Macau:20200921T160000
DTEND;TZID=Asia/Macau:20201001T010000
DTSTAMP:20260423T124726
CREATED:20210104T184322Z
LAST-MODIFIED:20210104T184322Z
UID:1172-1600704000-1601514000@www.epmacau.edu.mo
SUMMARY:Campanha de Angariação de Fundos para a “MASDAW” (Passeio de cães)
DESCRIPTION:
URL:https://www.epmacau.edu.mo/calendario-evento/campanha-de-angariacao-de-fundos-para-a-masdaw-passeio-de-caes/
LOCATION:Escola Portuguesa de Macau\, Av. do Infante Dom Henrique\, Macau\, Macau
CATEGORIES:Escola
END:VEVENT
BEGIN:VEVENT
DTSTART;TZID=Asia/Macau:20200914T160000
DTEND;TZID=Asia/Macau:20200919T010000
DTSTAMP:20260423T124726
CREATED:20210104T184037Z
LAST-MODIFIED:20210104T184037Z
UID:1168-1600099200-1600477200@www.epmacau.edu.mo
SUMMARY:Comemoração do Dia Internacional da Democracia (15 de setembro)
DESCRIPTION:Leitura / dramatização (pelos alunos) da obra “Eleição dos Bichos”\, sucedida de debate sobre questões relacionadas com o exercício da democracia
URL:https://www.epmacau.edu.mo/calendario-evento/comemoracao-do-dia-internacional-da-democracia-15-de-setembro/
LOCATION:Escola Portuguesa de Macau\, Av. do Infante Dom Henrique\, Macau\, Macau
CATEGORIES:Escola
END:VEVENT
BEGIN:VEVENT
DTSTART;TZID=Asia/Macau:20200914T160000
DTEND;TZID=Asia/Macau:20200919T010000
DTSTAMP:20260423T124726
CREATED:20210104T183953Z
LAST-MODIFIED:20210104T183953Z
UID:1166-1600099200-1600477200@www.epmacau.edu.mo
SUMMARY:Comemoração do Dia Internacional do Ponto (15 de setembro)
DESCRIPTION:Leitura\, exploração pedagógica e atividades de expressão plástica subordinadas à obra “O Ponto”\, de Peter H. Reynolds (que está na origem da celebração do Dia Internacional do Ponto)
URL:https://www.epmacau.edu.mo/calendario-evento/comemoracao-do-dia-internacional-do-ponto-15-de-setembro/
LOCATION:Escola Portuguesa de Macau\, Av. do Infante Dom Henrique\, Macau\, Macau
CATEGORIES:Escola
END:VEVENT
BEGIN:VEVENT
DTSTART;VALUE=DATE:20200912
DTEND;VALUE=DATE:20200914
DTSTAMP:20260423T124726
CREATED:20210104T183855Z
LAST-MODIFIED:20210104T183855Z
UID:1162-1599897600-1599983999@www.epmacau.edu.mo
SUMMARY:“Sábado verde”
DESCRIPTION:Alunos da EPM
URL:https://www.epmacau.edu.mo/calendario-evento/sabado-verde/
LOCATION:Escola Portuguesa de Macau\, Av. do Infante Dom Henrique\, Macau\, Macau
CATEGORIES:Escola
END:VEVENT
BEGIN:VEVENT
DTSTART;VALUE=DATE:20200910
DTEND;VALUE=DATE:20200912
DTSTAMP:20260423T124726
CREATED:20210104T183547Z
LAST-MODIFIED:20210104T184412Z
UID:1158-1599724800-1599811199@www.epmacau.edu.mo
SUMMARY:Início da AEC de Danças Folclóricas Tradicionais Portuguesas
DESCRIPTION:Alunos da AEC de Danças Folclóricas Tradicionais Portuguesas
URL:https://www.epmacau.edu.mo/calendario-evento/inicio-da-aec-de-dancas-folcloricas-tradicionais-portuguesas/
LOCATION:Ginásio da EPM\, Av. do Infante Dom Henrique\, Macau\, Macau
CATEGORIES:Escola
END:VEVENT
END:VCALENDAR