BEGIN:VCALENDAR
VERSION:2.0
PRODID:-//EPM - ECPv6.15.17//NONSGML v1.0//EN
CALSCALE:GREGORIAN
METHOD:PUBLISH
X-ORIGINAL-URL:https://www.epmacau.edu.mo
X-WR-CALDESC:Eventos para EPM
REFRESH-INTERVAL;VALUE=DURATION:PT1H
X-Robots-Tag:noindex
X-PUBLISHED-TTL:PT1H
BEGIN:VTIMEZONE
TZID:Asia/Macau
BEGIN:STANDARD
TZOFFSETFROM:+0800
TZOFFSETTO:+0800
TZNAME:CST
DTSTART:20200101T000000
END:STANDARD
END:VTIMEZONE
BEGIN:VEVENT
DTSTART;TZID=Asia/Macau:20210708T050000
DTEND;TZID=Asia/Macau:20210708T073000
DTSTAMP:20260422T210554
CREATED:20210107T002445Z
LAST-MODIFIED:20210629T012304Z
UID:1495-1625720400-1625729400@www.epmacau.edu.mo
SUMMARY:Exame 1ª Fase de História da Cultura e das Artes (724) - 11º Ano
DESCRIPTION:
URL:https://www.epmacau.edu.mo/calendario-evento/exame-1a-fase-de-historia-da-cultura-e-das-artes-724-11o-ano/
LOCATION:Escola Portuguesa de Macau\, Av. do Infante Dom Henrique\, Macau\, Macau
CATEGORIES:Exames
END:VEVENT
BEGIN:VEVENT
DTSTART;TZID=Asia/Macau:20210708T003000
DTEND;TZID=Asia/Macau:20210708T030000
DTSTAMP:20260422T210554
CREATED:20210107T002442Z
LAST-MODIFIED:20210629T012312Z
UID:1494-1625704200-1625713200@www.epmacau.edu.mo
SUMMARY:Exame 1ª Fase de História B (723) - 11º Ano
DESCRIPTION:
URL:https://www.epmacau.edu.mo/calendario-evento/exame-1a-fase-de-historia-b-723-11o-ano/
LOCATION:Escola Portuguesa de Macau\, Av. do Infante Dom Henrique\, Macau\, Macau
CATEGORIES:Exames
END:VEVENT
BEGIN:VEVENT
DTSTART;TZID=Asia/Macau:20210708T003000
DTEND;TZID=Asia/Macau:20210708T030000
DTSTAMP:20260422T210554
CREATED:20210107T001618Z
LAST-MODIFIED:20210629T012317Z
UID:1493-1625704200-1625713200@www.epmacau.edu.mo
SUMMARY:Exame 1ª Fase de História A (623) - 12º Ano
DESCRIPTION:
URL:https://www.epmacau.edu.mo/calendario-evento/exame-1a-fase-de-historia-a-623-12o-ano/
LOCATION:Escola Portuguesa de Macau\, Av. do Infante Dom Henrique\, Macau\, Macau
CATEGORIES:Exames
END:VEVENT
BEGIN:VEVENT
DTSTART;TZID=Asia/Macau:20210707T050000
DTEND;TZID=Asia/Macau:20210707T073000
DTSTAMP:20260422T210554
CREATED:20210107T001424Z
LAST-MODIFIED:20210629T012328Z
UID:1492-1625634000-1625643000@www.epmacau.edu.mo
SUMMARY:Exame 1ª Fase de Francês (517) - 11º Ano
DESCRIPTION:
URL:https://www.epmacau.edu.mo/calendario-evento/exame-1a-fase-de-frances-517-11o-ano/
LOCATION:Escola Portuguesa de Macau\, Av. do Infante Dom Henrique\, Macau\, Macau
CATEGORIES:Exames
END:VEVENT
BEGIN:VEVENT
DTSTART;TZID=Asia/Macau:20210707T003000
DTEND;TZID=Asia/Macau:20210707T030000
DTSTAMP:20260422T210554
CREATED:20210107T001323Z
LAST-MODIFIED:20210629T012344Z
UID:1491-1625617800-1625626800@www.epmacau.edu.mo
SUMMARY:Exame 1ª Fase de Filosofia (714) - 11º Ano
DESCRIPTION:
URL:https://www.epmacau.edu.mo/calendario-evento/exame-1a-fase-de-filosofia-714-11o-ano/
LOCATION:Escola Portuguesa de Macau\, Av. do Infante Dom Henrique\, Macau\, Macau
CATEGORIES:Exames
END:VEVENT
BEGIN:VEVENT
DTSTART;TZID=Asia/Macau:20210706T050000
DTEND;TZID=Asia/Macau:20210706T073000
DTSTAMP:20260422T210554
CREATED:20210107T001129Z
LAST-MODIFIED:20210629T012345Z
UID:1490-1625547600-1625556600@www.epmacau.edu.mo
SUMMARY:Exame 1ª Fase de Geometria Descritiva A (708) - 11º Ano
DESCRIPTION:
URL:https://www.epmacau.edu.mo/calendario-evento/exame-1a-fase-de-geometria-descritiva-a-708-11o-ano/
LOCATION:Escola Portuguesa de Macau\, Av. do Infante Dom Henrique\, Macau\, Macau
CATEGORIES:Exames
END:VEVENT
BEGIN:VEVENT
DTSTART;TZID=Asia/Macau:20210706T003000
DTEND;TZID=Asia/Macau:20210706T030000
DTSTAMP:20260422T210554
CREATED:20210107T001031Z
LAST-MODIFIED:20210629T012354Z
UID:1489-1625531400-1625540400@www.epmacau.edu.mo
SUMMARY:Exame 1ª Fase de Espanhol (847) - 11º Ano
DESCRIPTION:
URL:https://www.epmacau.edu.mo/calendario-evento/exame-1a-fase-de-espanhol-847-11o-ano/
LOCATION:Escola Portuguesa de Macau\, Av. do Infante Dom Henrique\, Macau\, Macau
CATEGORIES:Exames
END:VEVENT
BEGIN:VEVENT
DTSTART;TZID=Asia/Macau:20210706T003000
DTEND;TZID=Asia/Macau:20210706T030000
DTSTAMP:20260422T210554
CREATED:20210107T000918Z
LAST-MODIFIED:20210629T012432Z
UID:1488-1625531400-1625540400@www.epmacau.edu.mo
SUMMARY:Exame 1ª Fase de Espanhol (547) - 11º Ano
DESCRIPTION:
URL:https://www.epmacau.edu.mo/calendario-evento/exame-1a-fase-de-espanhol-547-11o-ano/
LOCATION:Escola Portuguesa de Macau\, Av. do Infante Dom Henrique\, Macau\, Macau
CATEGORIES:Exames
END:VEVENT
BEGIN:VEVENT
DTSTART;TZID=Asia/Macau:20210703T003000
DTEND;TZID=Asia/Macau:20210703T030000
DTSTAMP:20260422T210554
CREATED:20210107T000818Z
LAST-MODIFIED:20210629T012437Z
UID:1487-1625272200-1625281200@www.epmacau.edu.mo
SUMMARY:Exame 1ª Fase de PLNM (839) - 12º Ano
DESCRIPTION:
URL:https://www.epmacau.edu.mo/calendario-evento/exame-1a-fase-de-plnm-839-12o-ano/
LOCATION:Escola Portuguesa de Macau\, Av. do Infante Dom Henrique\, Macau\, Macau
CATEGORIES:Exames
END:VEVENT
BEGIN:VEVENT
DTSTART;TZID=Asia/Macau:20210703T003000
DTEND;TZID=Asia/Macau:20210703T030000
DTSTAMP:20260422T210554
CREATED:20210107T000652Z
LAST-MODIFIED:20210629T012444Z
UID:1486-1625272200-1625281200@www.epmacau.edu.mo
SUMMARY:Exame 1ª Fase de Português (639) - 12º Ano
DESCRIPTION:
URL:https://www.epmacau.edu.mo/calendario-evento/exame-1a-fase-de-portugues-639-12o-ano/
LOCATION:Escola Portuguesa de Macau\, Av. do Infante Dom Henrique\, Macau\, Macau
CATEGORIES:Exames
END:VEVENT
BEGIN:VEVENT
DTSTART;TZID=Asia/Macau:20210703T003000
DTEND;TZID=Asia/Macau:20210703T030000
DTSTAMP:20260422T210554
CREATED:20210106T233051Z
LAST-MODIFIED:20210629T013129Z
UID:1475-1625272200-1625281200@www.epmacau.edu.mo
SUMMARY:Prova Final 1ª Fase de Português Língua Não Materna - 3º Ciclo
DESCRIPTION:Português Língua Não Materna:\n– Nível de Iniciação A2 (93)\n– Nível Intermédio B1 (94)
URL:https://www.epmacau.edu.mo/calendario-evento/exame-portugues-lingua-nao-materna-3o-ciclo/
LOCATION:Escola Portuguesa de Macau\, Av. do Infante Dom Henrique\, Macau\, Macau
CATEGORIES:Exames
END:VEVENT
BEGIN:VEVENT
DTSTART;TZID=Asia/Macau:20210701T003000
DTEND;TZID=Asia/Macau:20210701T030000
DTSTAMP:20260422T210554
CREATED:20210106T234332Z
LAST-MODIFIED:20210629T013206Z
UID:1477-1625099400-1625108400@www.epmacau.edu.mo
SUMMARY:Prova Final 1ª Fase de Português (91) - 3º Ciclo
DESCRIPTION:
URL:https://www.epmacau.edu.mo/calendario-evento/exame-portugues-91-3o-ciclo/
LOCATION:Escola Portuguesa de Macau\, Av. do Infante Dom Henrique\, Macau\, Macau
CATEGORIES:Exames
END:VEVENT
BEGIN:VEVENT
DTSTART;TZID=Asia/Macau:20210629T003000
DTEND;TZID=Asia/Macau:20210629T030000
DTSTAMP:20260422T210554
CREATED:20210106T234240Z
LAST-MODIFIED:20210629T013152Z
UID:1476-1624926600-1624935600@www.epmacau.edu.mo
SUMMARY:Prova Final 1ª Fase de Matemática (92) - 3º Ciclo
DESCRIPTION:
URL:https://www.epmacau.edu.mo/calendario-evento/exame-matematica-92-3o-ciclo/
LOCATION:Escola Portuguesa de Macau\, Av. do Infante Dom Henrique\, Macau\, Macau
CATEGORIES:Exames
END:VEVENT
BEGIN:VEVENT
DTSTART;VALUE=DATE:20210610
DTEND;VALUE=DATE:20210612
DTSTAMP:20260422T210554
CREATED:20210104T203106Z
LAST-MODIFIED:20210104T203106Z
UID:1297-1623312000-1623398399@www.epmacau.edu.mo
SUMMARY:Dia de Camões
DESCRIPTION:Alunos do 1º Ciclo
URL:https://www.epmacau.edu.mo/calendario-evento/dia-de-camoes/
LOCATION:Escola Portuguesa de Macau\, Av. do Infante Dom Henrique\, Macau\, Macau
CATEGORIES:Escola
END:VEVENT
BEGIN:VEVENT
DTSTART;VALUE=DATE:20210610
DTEND;VALUE=DATE:20210612
DTSTAMP:20260422T210554
CREATED:20210104T203019Z
LAST-MODIFIED:20210104T203019Z
UID:1293-1623312000-1623398399@www.epmacau.edu.mo
SUMMARY:Romagem à Gruta de Camões
DESCRIPTION:
URL:https://www.epmacau.edu.mo/calendario-evento/romagem-a-gruta-de-camoes/
LOCATION:Jardim Camões\, Praca de Luis de Camoes\, Macau\, Macau
CATEGORIES:Escola
END:VEVENT
BEGIN:VEVENT
DTSTART;VALUE=DATE:20210605
DTEND;VALUE=DATE:20210607
DTSTAMP:20260422T210554
CREATED:20210104T202915Z
LAST-MODIFIED:20210104T202915Z
UID:1291-1622880000-1622966399@www.epmacau.edu.mo
SUMMARY:Dia do Ambiente
DESCRIPTION:Alunos da EPM
URL:https://www.epmacau.edu.mo/calendario-evento/dia-do-ambiente/
LOCATION:Escola Portuguesa de Macau\, Av. do Infante Dom Henrique\, Macau\, Macau
CATEGORIES:Escola
END:VEVENT
BEGIN:VEVENT
DTSTART;VALUE=DATE:20210604
DTEND;VALUE=DATE:20210606
DTSTAMP:20260422T210554
CREATED:20210601T234125Z
LAST-MODIFIED:20210601T234125Z
UID:2035-1622793600-1622879999@www.epmacau.edu.mo
SUMMARY:Aprender em casa - Filo... quê? (RTP Açores) episódio 29
DESCRIPTION:[vc_row][vc_column][vc_column_text]Rubrica de Filosofia para Crianças em parceria com a Universidade dos Açores integrada no programa “Aprender em Casa”\, episódio 29. \nhttps://youtu.be/5MNiyom4Qug[/vc_column_text][/vc_column][/vc_row]
URL:https://www.epmacau.edu.mo/calendario-evento/aprender-em-casa-filo-que-rtp-acores-episodio-29/
LOCATION:Escola Portuguesa de Macau\, Av. do Infante Dom Henrique\, Macau\, Macau
CATEGORIES:Escola
END:VEVENT
BEGIN:VEVENT
DTSTART;TZID=Asia/Macau:20210601T160000
DTEND;TZID=Asia/Macau:20210602T010000
DTSTAMP:20260422T210554
CREATED:20210104T202835Z
LAST-MODIFIED:20210104T202835Z
UID:1290-1622563200-1622595600@www.epmacau.edu.mo
SUMMARY:Dia Mundial da Criança
DESCRIPTION:Alunos do 1º Ciclo
URL:https://www.epmacau.edu.mo/calendario-evento/dia-mundial-da-crianca/
LOCATION:Escola Portuguesa de Macau\, Av. do Infante Dom Henrique\, Macau\, Macau
CATEGORIES:Escola
END:VEVENT
BEGIN:VEVENT
DTSTART;VALUE=DATE:20210529
DTEND;VALUE=DATE:20210531
DTSTAMP:20260422T210554
CREATED:20210104T202732Z
LAST-MODIFIED:20210104T202732Z
UID:1288-1622275200-1622361599@www.epmacau.edu.mo
SUMMARY:Sarau de Ginástica
DESCRIPTION:
URL:https://www.epmacau.edu.mo/calendario-evento/sarau-de-ginastica/
LOCATION:Ginásio da EPM\, Av. do Infante Dom Henrique\, Macau\, Macau
CATEGORIES:Escola
END:VEVENT
BEGIN:VEVENT
DTSTART;VALUE=DATE:20210525
DTEND;VALUE=DATE:20210530
DTSTAMP:20260422T210554
CREATED:20210601T233426Z
LAST-MODIFIED:20210601T233426Z
UID:2016-1621929600-1622275199@www.epmacau.edu.mo
SUMMARY:Ano Internacional das Frutas e Legumes
DESCRIPTION:[vc_row][vc_column width=”1/3″][vc_column_text]Exposição de trabalhos dos alunos dos 5º e 6º anos e alunos da Horta Pedagógica.[/vc_column_text][vc_images_carousel images=”2034\,2033\,2032\,2031″ autoplay=”yes”][/vc_column][vc_column width=”1/3″][vc_column_text]Promover a produção sustentável de alimentos. \nVisita de estudo à quinta urbana de aquaponia “It’s pure production”.[/vc_column_text][vc_images_carousel images=”2025\,2024″ autoplay=”yes”][/vc_column][vc_column width=”1/3″][vc_column_text]Promover a redução de resíduos e a reciclagem. \nWorkshop de compostagem.[/vc_column_text][vc_images_carousel images=”2023\,2022\,2021″ autoplay=”yes”][/vc_column][/vc_row]
URL:https://www.epmacau.edu.mo/calendario-evento/ano-internacional-das-frutas-e-legumes/
LOCATION:Escola Portuguesa de Macau\, Av. do Infante Dom Henrique\, Macau\, Macau
CATEGORIES:Escola
END:VEVENT
BEGIN:VEVENT
DTSTART;VALUE=DATE:20210515
DTEND;VALUE=DATE:20210517
DTSTAMP:20260422T210554
CREATED:20210104T202701Z
LAST-MODIFIED:20210104T202701Z
UID:1286-1621065600-1621151999@www.epmacau.edu.mo
SUMMARY:Festa da Música
DESCRIPTION:Alunos do 1º Ciclo
URL:https://www.epmacau.edu.mo/calendario-evento/festa-da-musica/
LOCATION:Ginásio da EPM\, Av. do Infante Dom Henrique\, Macau\, Macau
CATEGORIES:Escola
END:VEVENT
BEGIN:VEVENT
DTSTART;VALUE=DATE:20210515
DTEND;VALUE=DATE:20210517
DTSTAMP:20260422T210554
CREATED:20210104T202606Z
LAST-MODIFIED:20210104T202606Z
UID:1285-1621065600-1621151999@www.epmacau.edu.mo
SUMMARY:Dia da Família
DESCRIPTION:Alunos do 1º Ciclo
URL:https://www.epmacau.edu.mo/calendario-evento/dia-da-familia/
LOCATION:Escola Portuguesa de Macau\, Av. do Infante Dom Henrique\, Macau\, Macau
CATEGORIES:Escola
END:VEVENT
BEGIN:VEVENT
DTSTART;VALUE=DATE:20210512
DTEND;VALUE=DATE:20210514
DTSTAMP:20260422T210554
CREATED:20210104T202422Z
LAST-MODIFIED:20210104T202422Z
UID:1284-1620806400-1620892799@www.epmacau.edu.mo
SUMMARY:Dia do Direito
DESCRIPTION:Alunos do 12º Ano
URL:https://www.epmacau.edu.mo/calendario-evento/dia-do-direito/
LOCATION:Escola Portuguesa de Macau\, Av. do Infante Dom Henrique\, Macau\, Macau
CATEGORIES:Escola
END:VEVENT
BEGIN:VEVENT
DTSTART;VALUE=DATE:20210510
DTEND;VALUE=DATE:20210512
DTSTAMP:20260422T210554
CREATED:20210104T202347Z
LAST-MODIFIED:20210104T202347Z
UID:1282-1620633600-1620719999@www.epmacau.edu.mo
SUMMARY:Dia da Psicologia
DESCRIPTION:Alunos do 12º ano
URL:https://www.epmacau.edu.mo/calendario-evento/dia-da-psicologia/
LOCATION:Escola Portuguesa de Macau\, Av. do Infante Dom Henrique\, Macau\, Macau
CATEGORIES:Escola
END:VEVENT
BEGIN:VEVENT
DTSTART;VALUE=DATE:20210509
DTEND;VALUE=DATE:20210511
DTSTAMP:20260422T210554
CREATED:20210104T202307Z
LAST-MODIFIED:20210104T202307Z
UID:1280-1620547200-1620633599@www.epmacau.edu.mo
SUMMARY:Dia da Europa
DESCRIPTION:Alunos do Secundário
URL:https://www.epmacau.edu.mo/calendario-evento/dia-da-europa/
LOCATION:Escola Portuguesa de Macau\, Av. do Infante Dom Henrique\, Macau\, Macau
CATEGORIES:Escola
END:VEVENT
BEGIN:VEVENT
DTSTART;VALUE=DATE:20210509
DTEND;VALUE=DATE:20210511
DTSTAMP:20260422T210554
CREATED:20210104T202214Z
LAST-MODIFIED:20210428T182158Z
UID:1278-1620547200-1620633599@www.epmacau.edu.mo
SUMMARY:Dia da Mãe
DESCRIPTION:Alunos do 1º Ciclo
URL:https://www.epmacau.edu.mo/calendario-evento/dia-da-mae/
LOCATION:Escola Portuguesa de Macau\, Av. do Infante Dom Henrique\, Macau\, Macau
CATEGORIES:Escola
END:VEVENT
BEGIN:VEVENT
DTSTART;VALUE=DATE:20210505
DTEND;VALUE=DATE:20210507
DTSTAMP:20260422T210554
CREATED:20210428T182024Z
LAST-MODIFIED:20210428T182024Z
UID:1948-1620201600-1620287999@www.epmacau.edu.mo
SUMMARY:Comemoração do Dia Mundial da Língua Portuguesa
DESCRIPTION:
URL:https://www.epmacau.edu.mo/calendario-evento/comemoracao-do-dia-mundial-da-lingua-portuguesa/
LOCATION:Escola Portuguesa de Macau\, Av. do Infante Dom Henrique\, Macau\, Macau
CATEGORIES:Escola
ATTACH;FMTTYPE=image/png:https://www.epmacau.edu.mo/wp-content/uploads/2021/04/Dia-da-LinguaPortuguesa.png
END:VEVENT
BEGIN:VEVENT
DTSTART;TZID=Asia/Macau:20210501T020000
DTEND;TZID=Asia/Macau:20210501T040000
DTSTAMP:20260422T210554
CREATED:20210420T204307Z
LAST-MODIFIED:20210420T204307Z
UID:1931-1619834400-1619841600@www.epmacau.edu.mo
SUMMARY:Apresentação do livro: Seis Reitores do Liceu de Macau
DESCRIPTION:[vc_row][vc_column][vc_column_text]Seis Reitores do Liceu de Macau\, Ántónio Aresta. \nDia 30 de abril de 2021\, pelas 18h00\, no auditório da EPM. \nNúmero de lugares limitado devido à pandemia.[/vc_column_text][/vc_column][/vc_row]
URL:https://www.epmacau.edu.mo/calendario-evento/apresentacao-do-livro-seis-reitores-do-liceu-de-macau/
LOCATION:Escola Portuguesa de Macau\, Av. do Infante Dom Henrique\, Macau\, Macau
CATEGORIES:Escola
ATTACH;FMTTYPE=image/jpeg:https://www.epmacau.edu.mo/wp-content/uploads/2021/04/LancamentoLivro_A4_12.jpg
END:VEVENT
BEGIN:VEVENT
DTSTART;VALUE=DATE:20210430
DTEND;VALUE=DATE:20210502
DTSTAMP:20260422T210554
CREATED:20210201T172728Z
LAST-MODIFIED:20210201T183412Z
UID:1692-1619769600-1619855999@www.epmacau.edu.mo
SUMMARY:V Concurso de Contos de Filosofia para Crianças
DESCRIPTION:[vc_row][vc_column][vc_column_text]Um concurso promovido pela Associação Portuguesa de Ética e Filosofia Prática que pretende desenvolver as capacidades de raciocínio\, assim como as capacidades de verbalização do pensamento\, modos de comunicação e confronto de ideias.[/vc_column_text][/vc_column][/vc_row]
URL:https://www.epmacau.edu.mo/calendario-evento/v-concurso-de-contos-de-filosofia-para-criancas/
LOCATION:Escola Portuguesa de Macau\, Av. do Infante Dom Henrique\, Macau\, Macau
ATTACH;FMTTYPE=image/jpeg:https://www.epmacau.edu.mo/wp-content/uploads/2021/02/V-Concurso-de-Contos-de-Filosofia-para-Criancas.jpeg
ORGANIZER;CN="Associa%C3%A7%C3%A3o Portuguesa de %C3%89tica e Filosofia Pr%C3%A1tica":MAILTO:apefp2008@gmail.com
END:VEVENT
BEGIN:VEVENT
DTSTART;VALUE=DATE:20210425
DTEND;VALUE=DATE:20210427
DTSTAMP:20260422T210554
CREATED:20210104T202135Z
LAST-MODIFIED:20210111T020249Z
UID:1276-1619337600-1619423999@www.epmacau.edu.mo
SUMMARY:Comemoração do 25 de Abril
DESCRIPTION:Alunos do 6º\, 9º e 12º anos
URL:https://www.epmacau.edu.mo/calendario-evento/comemoracao-do-25-de-abril/
LOCATION:Escola Portuguesa de Macau\, Av. do Infante Dom Henrique\, Macau\, Macau
CATEGORIES:Escola
END:VEVENT
END:VCALENDAR