BEGIN:VCALENDAR
VERSION:2.0
PRODID:-//EPM - ECPv6.15.17//NONSGML v1.0//EN
CALSCALE:GREGORIAN
METHOD:PUBLISH
X-ORIGINAL-URL:https://www.epmacau.edu.mo
X-WR-CALDESC:Eventos para EPM
REFRESH-INTERVAL;VALUE=DURATION:PT1H
X-Robots-Tag:noindex
X-PUBLISHED-TTL:PT1H
BEGIN:VTIMEZONE
TZID:Asia/Macau
BEGIN:STANDARD
TZOFFSETFROM:+0800
TZOFFSETTO:+0800
TZNAME:CST
DTSTART:20240101T000000
END:STANDARD
END:VTIMEZONE
BEGIN:VEVENT
DTSTART;TZID=Asia/Macau:20250307T124000
DTEND;TZID=Asia/Macau:20250307T131500
DTSTAMP:20260423T060926
CREATED:20250305T082552Z
LAST-MODIFIED:20250305T090304Z
UID:28185-1741351200-1741353300@www.epmacau.edu.mo
SUMMARY:Dia Internacional da Mulher – “Mulheres Que Inspiram”
DESCRIPTION:Na manhã do dia 7 de março\, a EPM assinala o Dia Internacional da Mulher no projeto DAC – “Mulheres Que Inspiram”\, um projeto lançado pelas disciplinas de Português\, PLNM\, Filosofia\, Matemática B e MACS. Das Letras às Ciências\, passando pelas Artes e pela Moda\, os alunos do 10º ano celebram a Mulher\, numa amostra de trabalhos e num momento cultural onde\, através da palavra e da música\, recordam a grandeza das mulheres que têm vindo a superar o preconceito da sociedade masculina implementado ao longo dos séculos. Uma dessas mulheres que muito contribuiu para a independência do preconceito familiar\, religioso e social\, em Portugal\, e a quem no dia 7 de março se presta uma justa homenagem\, é a poetisa Maria Teresa Horta\, falecida no dia 4 de fevereiro\, aos 87 anos. Maria Teresa Horta é\, certamente\, o símbolo da emancipação das mulheres portuguesas\, elas tão habituadas a ser submissas\, “a ouvir e a calar” e a obedecer cegamente\, num país onde a rebeldia e a desobediência se pagavam caro.
URL:https://www.epmacau.edu.mo/calendario-evento/dia-internacional-da-mulher-mulhers-que-inspiram/
LOCATION:Átrio Interior da EPM
CATEGORIES:Escola
END:VEVENT
BEGIN:VEVENT
DTSTART;TZID=Asia/Macau:20250313T180000
DTEND;TZID=Asia/Macau:20250313T190000
DTSTAMP:20260423T060926
CREATED:20250305T082801Z
LAST-MODIFIED:20250305T082801Z
UID:28326-1741888800-1741892400@www.epmacau.edu.mo
SUMMARY:Ousa Pensar! - Sobreviver ao digital: o papel da escola em debate
DESCRIPTION:As palestras “Ousa Pensar” são um ciclo de palestras via Zoom promovidas pela Associação de Professores de Filosofia em Portugal e têm como objetivo apresentar aos jovens do ensino secundário e aos professores outras formas de conhecerem e adquirirem o pensamento filosófico. \nNo dia 13 de março irá decorrer no auditório da EPM\, pelas 18:00h\, uma palestra subordinada ao tema “Sobreviver ao digital: o papel da escola em debate”\, pelo professor João Rebalde da Faculdade de Letras do Porto. \nA partir das obras de Jonathan Haidt (The Anxious Generation\, 2024)\, Michel Desmurget (La Fabrique du crétin digital\, 2019) e Victoria Dunckley (Reset Your Child’s Brain\, 2015) propomos uma reflexão crítica sobre a transformação e a transição digital nas escolas.
URL:https://www.epmacau.edu.mo/calendario-evento/ousa-pensar-sobreviver-ao-digital-o-papel-da-escola-em-debate/
LOCATION:Auditório da EPM\, Av. do Infante Dom Henrique\, Macau\, Macau
CATEGORIES:Escola
END:VEVENT
BEGIN:VEVENT
DTSTART;TZID=Asia/Macau:20250319T113000
DTEND;TZID=Asia/Macau:20250319T130000
DTSTAMP:20260423T060926
CREATED:20250312T103827Z
LAST-MODIFIED:20250312T103827Z
UID:30571-1742383800-1742389200@www.epmacau.edu.mo
SUMMARY:Palestra "PORTUGUÊS Uma Língua Global"
DESCRIPTION:
URL:https://www.epmacau.edu.mo/calendario-evento/palestra-portugues-uma-lingua-global/
LOCATION:Auditório da EPM\, Av. do Infante Dom Henrique\, Macau\, Macau
END:VEVENT
BEGIN:VEVENT
DTSTART;TZID=Asia/Macau:20250321T113000
DTEND;TZID=Asia/Macau:20250321T123000
DTSTAMP:20260423T060926
CREATED:20250314T042128Z
LAST-MODIFIED:20250314T042203Z
UID:30631-1742556600-1742560200@www.epmacau.edu.mo
SUMMARY:Dia Mundial da Poesia
DESCRIPTION:[vc_row][vc_column][vc_single_image image=”30632″ img_size=”large” alignment=”center” onclick=”link_image”][/vc_column][/vc_row]
URL:https://www.epmacau.edu.mo/calendario-evento/dia-mundial-da-poesia/
LOCATION:Átrio Interior da EPM
CATEGORIES:Escola
END:VEVENT
BEGIN:VEVENT
DTSTART;TZID=Asia/Macau:20250327T180000
DTEND;TZID=Asia/Macau:20250327T190000
DTSTAMP:20260423T060926
CREATED:20250314T042258Z
LAST-MODIFIED:20250318T044925Z
UID:30607-1743098400-1743102000@www.epmacau.edu.mo
SUMMARY:Palestras "Ousa Pensar" - “O Problema da Justiça de Guerra"  「敢於思考」講座系列 - 「戰爭正義問題」
DESCRIPTION:[vc_row][vc_column][vc_single_image image=”30608″ img_size=”medium” alignment=”center”][/vc_column][/vc_row][vc_row][vc_column][vc_column_text] \nAs palestras “Ousa Pensar” são um ciclo de palestras via Zoom promovidas pela Associação de Professores de Filosofia em Portugal e têm como objectivo apresentar aos jovens do ensino secundário e aos professores outras formas de conhecerem e adquirirem o pensamento filosófico. \nNo dia 27 de Março\, irá decorrer no auditório da EPM\, pelas 18:00h\, uma palestra subordinada ao tema “O Problema da Justiça de Guerra”\, pelo professor Luís Veríssimo\, investigador do Centro de Filosofia da Universidade de Lisboa. \n“Desde o início do séc. XXI\, temos assistido a um aumento e/ou agravamento de vários conflitos armados espalhados pelo mundo. Seja sob a forma de um conflito tradicional entre dois exércitos organizados\, seja sob a forma de um conflito de natureza assimétrica entre uma grande potência militar e um pequeno grupo de insurgentes com poucos recursos militares ao seu dispor. Urge\, portanto\, fazer uma cuidadosa reflexão sobre a moralidade da guerra e\, como acontece noutras áreas\, a filosofia pode dar um importante contributo para essa reflexão. Haverá alguma justificação para a guerra? A maioria das pessoas pensa que matar é errado. Que razões poderão ser invocadas para considerar que a guerra constitui uma excepção a essa regra? E se\, de facto\, houver razões para se abrir esse tipo de excepção\, a quem se aplicam essas razões? Quem está moralmente autorizado a matar quem\, no contexto de uma guerra? Nesta sessão\, vamos desafiar-te a ousar pensar sobre estas e outras questões relacionadas com o problema da justiça de guerra. Contamos contigo!” \n  \n敢於思考」講座系列是葡萄牙哲學教師協會舉辦的一連串 Zoom 講座，旨在向中學生們和老師介紹和認識哲學思想的不同方法。 \n3月27日下午6點，里斯本大學哲學中心(Centro de Filosofia da Universidade de Lisboa)研究員Luís Veríssimo教授將於我校禮堂進行名為「戰爭正義問題」的講座。 \n「自 21 世紀初以來，我們目睹了世界各地各種武裝衝突的增加和/或惡化。無論是兩支有組織性軍隊之間的傳統衝突形式，還是一個軍事強國與一小撮支配少許軍事資源的叛亂者的非對等衝突形式。因此，當務之急是要仔細反思戰爭的道德性，就像在其他領域一樣，哲學可以對這種反思做出重要的貢獻。戰爭是否有任何合理性？大多數人認為殺戮是錯誤的。有什麼理由可以將戰爭視為例外呢？如果確實有理由做出這種例外情況，那麼這些理由適用於誰呢？在戰爭中，誰在道德上有權殺人？在這一課中，我們將挑戰您敢於思考這些問題以及其它與戰爭正義相關的問題。我們期待你的參與！」[/vc_column_text][/vc_column][/vc_row]
URL:https://www.epmacau.edu.mo/calendario-evento/palestras-ousa-pensar-o-problema-da-justica-de-guerra/
LOCATION:Auditório da EPM\, Av. do Infante Dom Henrique\, Macau\, Macau
CATEGORIES:Escola
END:VEVENT
BEGIN:VEVENT
DTSTART;VALUE=DATE:20250428
DTEND;VALUE=DATE:20250503
DTSTAMP:20260423T060926
CREATED:20250416T104330Z
LAST-MODIFIED:20250416T105050Z
UID:30926-1745798400-1746230399@www.epmacau.edu.mo
SUMMARY:Atividades comemorativas do 25 de Abril
DESCRIPTION:A EPM vai assinalar\, uma vez mais\, a data histórica do 25 de Abril. As turmas do 6° e 9° anos e o 12°B vão realizar uma exposição\, no dia 28 de abril\, de artes visuais e digitais subordinada ao tema “E depois de Abril…”. No dia 30 de abril\, pelas 12:40\, as turmas 5°A e B e 8°A e B\, acompanhadas pela Tuna da EPM\, apresentarão algumas “Canções de Abril”.
URL:https://www.epmacau.edu.mo/calendario-evento/atividades-comemorativas-do-25-de-abril/
LOCATION:Átrio Interior da EPM
CATEGORIES:Escola
END:VEVENT
BEGIN:VEVENT
DTSTART;TZID=Asia/Macau:20250505T100000
DTEND;TZID=Asia/Macau:20250505T100000
DTSTAMP:20260423T060926
CREATED:20250430T114349Z
LAST-MODIFIED:20250502T034739Z
UID:30953-1746439200-1746439200@www.epmacau.edu.mo
SUMMARY:Dia Mundial da Língua Portuguesa
DESCRIPTION:
URL:https://www.epmacau.edu.mo/calendario-evento/dia-mundial-da-lingua-portuguesa/
LOCATION:Átrio Interior da EPM
CATEGORIES:Escola
END:VEVENT
BEGIN:VEVENT
DTSTART;VALUE=DATE:20250516
DTEND;VALUE=DATE:20250517
DTSTAMP:20260423T060926
CREATED:20250513T092019Z
LAST-MODIFIED:20250514T074007Z
UID:31033-1747353600-1747439999@www.epmacau.edu.mo
SUMMARY:Feira Medieval EPM 2025 中古市集 2025
DESCRIPTION:
URL:https://www.epmacau.edu.mo/calendario-evento/feira-medieval-epm-2025/
LOCATION:Átrio Interior da EPM
CATEGORIES:Escola
END:VEVENT
BEGIN:VEVENT
DTSTART;TZID=Asia/Macau:20250523T183000
DTEND;TZID=Asia/Macau:20250523T183000
DTSTAMP:20260423T060926
CREATED:20250522T024936Z
LAST-MODIFIED:20250522T024936Z
UID:31063-1748025000-1748025000@www.epmacau.edu.mo
SUMMARY:“Ouro Negro”  《暗金》
DESCRIPTION:A Casa de Portugal em Macau apresenta a peça de teatro “Ouro Negro” no Auditório da EPM\, dia 23 de Maio\, pelas 18h30\, sendo este projecto apoiado pelo Fundo de Desenvolvimento da Cultura do Governo da RAEM. A peça é inspirada num texto da autoria de Pedro d’Alte\, professor na EPM\, em torno do Ouro Negro\, o minério\, levada a cena pelo grupo de teatro\, vindo de Portugal\, Gambuzinos e Peobardos. Falada em Português e com entrada livre\, a peça não é aconselhável a menores de 18 anos\, sendo interdita a menores de 13 anos. \n澳門葡人之家協會主辦的舞台劇《暗金》將於5月23日18:30在澳門葡文學校禮堂上演。本項目獲得澳門特別行政區政府文化發展基金會的資助。該劇靈感來源於澳門葡文學校教師Pedro d’Alte創作的關於“黑金”（礦產）的文本，由來自葡萄牙的劇團Gambuzinos e Peobardos演出。 本劇以葡萄牙語演出，免費入場，未滿十八歲不宜觀看，十三歲以下禁止觀看。 \n \n  \n  \n 
URL:https://www.epmacau.edu.mo/calendario-evento/ouro-negro-%e3%80%8a%e6%9a%97%e9%87%91%e3%80%8b/
LOCATION:Auditório da EPM\, Av. do Infante Dom Henrique\, Macau\, Macau
END:VEVENT
BEGIN:VEVENT
DTSTART;TZID=Asia/Macau:20250612T163000
DTEND;TZID=Asia/Macau:20250710T183000
DTSTAMP:20260423T060926
CREATED:20250526T014039Z
LAST-MODIFIED:20250526T020803Z
UID:31086-1749745800-1752172200@www.epmacau.edu.mo
SUMMARY:A INTELIGÊNCIA ARTIFICIAL NA SALA DE AULA…POR QUE NÃO?
DESCRIPTION:Ficha da Ação de Formação \nFicha de Inscrição \n  \n \n 
URL:https://www.epmacau.edu.mo/calendario-evento/a-inteligencia-artificial-na-sala-de-aulapor-que-nao/
LOCATION:Escola Portuguesa de Macau\, Av. do Infante Dom Henrique\, Macau\, Macau
CATEGORIES:Centro de Formação EPM,Escola
END:VEVENT
BEGIN:VEVENT
DTSTART;TZID=Asia/Macau:20250621T163000
DTEND;TZID=Asia/Macau:20250712T200000
DTSTAMP:20260423T060926
CREATED:20250526T022037Z
LAST-MODIFIED:20250526T022411Z
UID:31097-1750523400-1752350400@www.epmacau.edu.mo
SUMMARY:ESTRATÉGIAS E PRÁTICAS CRIATIVAS COM AS TECNOLOGIAS DIGITAIS
DESCRIPTION:Ficha da Ação de Formação \nFicha de Inscrição
URL:https://www.epmacau.edu.mo/calendario-evento/estrategias-e-praticas-criativas-com-as-tecnologias-digitais/
LOCATION:Escola Portuguesa de Macau\, Av. do Infante Dom Henrique\, Macau\, Macau
CATEGORIES:Centro de Formação EPM,Escola
END:VEVENT
BEGIN:VEVENT
DTSTART;VALUE=DATE:20251114
DTEND;VALUE=DATE:20251115
DTSTAMP:20260423T060926
CREATED:20251113T003708Z
LAST-MODIFIED:20251113T010152Z
UID:33332-1763078400-1763164799@www.epmacau.edu.mo
SUMMARY:Exposição de Fotografia - O mundo na minha lente
DESCRIPTION:Organizada pela Casa de Portugal em Macau\, a exposição de fotografia de Manuel Figueiredo “O Mundo na minha lente”\, com curadoria de Francisco Ricarte\, inaugurada em Setembro na Casa de Vidro\, será apresentada no dia 14 de Novembro\, pelas 18:30\, no átrio da Escola Portuguesa de Macau\, contando com algumas fotografias novas. São todos bem-vindos! \n由澳門葡人之家協會主辦，Francisco Ricarte策展的Manuel Figueiredo個人攝影展「我鏡頭中的世界」已于10月份在塔石玻璃屋葡國好嘢完展，現將于11月14日下午6點於澳門葡文學校再次開展，屆時將展出一些新的照片。歡迎各界人士參加。 \nOrganized by Casa de Portugal em Macau\, the photography exhibition by Manuel Figueiredo\, “The World in My Lens\,” curated by Francisco Ricarte\, which was inaugurated in September at the Glass House\, will be presented on November 14 at 6:30 PM in the atrium of the Portuguese School of Macau\, featuring some new photographs. Everyone is welcome!
URL:https://www.epmacau.edu.mo/calendario-evento/exposicao-de-fotografia-o-mundo-na-minha-lente/
LOCATION:Casa de Portugal em Macau – Casa de Vidro
ATTACH;FMTTYPE=image/jpeg:https://www.epmacau.edu.mo/wp-content/uploads/2025/11/ExpFot_MF.jpg
END:VEVENT
BEGIN:VEVENT
DTSTART;TZID=Asia/Macau:20251115T100000
DTEND;TZID=Asia/Macau:20251115T120000
DTSTAMP:20260423T060926
CREATED:20251111T035014Z
LAST-MODIFIED:20251111T035017Z
UID:33328-1763200800-1763208000@www.epmacau.edu.mo
SUMMARY:Cerimónia de Atribuição de Menções de Excelência e Prémios Escolares 2024/2025
DESCRIPTION:
URL:https://www.epmacau.edu.mo/calendario-evento/cerimonia-de-atribuicao-de-mencoes-de-excelencia-e-premios-escolares-2024-2025/
LOCATION:Pavilhão Gimnodesportivo da EPM\, Escola Portuguesa de Macau\, Av. Infante D. Henrique\, s/n\, Macau\, Macau\, China\, Macau
CATEGORIES:Escola
ATTACH;FMTTYPE=image/jpeg:https://www.epmacau.edu.mo/wp-content/uploads/2025/11/Cartaz_Premios25.jpg
END:VEVENT
BEGIN:VEVENT
DTSTART;VALUE=DATE:20251117
DTEND;VALUE=DATE:20251122
DTSTAMP:20260423T060926
CREATED:20251117T014346Z
LAST-MODIFIED:20251117T014407Z
UID:33346-1763337600-1763769599@www.epmacau.edu.mo
SUMMARY:Semana da Filosofia
DESCRIPTION:
URL:https://www.epmacau.edu.mo/calendario-evento/semana-da-filosofia/
LOCATION:Escola Portuguesa de Macau\, Av. do Infante Dom Henrique\, Macau\, Macau
CATEGORIES:Escola
ATTACH;FMTTYPE=image/jpeg:https://www.epmacau.edu.mo/wp-content/uploads/2025/11/CartazSemanaFIL25.jpg
END:VEVENT
BEGIN:VEVENT
DTSTART;TZID=Asia/Macau:20251122T150000
DTEND;TZID=Asia/Macau:20251123T183000
DTSTAMP:20260423T060926
CREATED:20251121T051130Z
LAST-MODIFIED:20251121T051134Z
UID:33390-1763823600-1763922600@www.epmacau.edu.mo
SUMMARY:Festival da Criança
DESCRIPTION:Música ao vivo\, jogos e animação para toda a família! Live music\, games & animation for the whole family! \n現場樂隊，遊戲，公仔人偶等活動適合親子家庭遊玩！
URL:https://www.epmacau.edu.mo/calendario-evento/festival-da-crianca/
LOCATION:Escola Portuguesa de Macau\, Av. do Infante Dom Henrique\, Macau\, Macau
CATEGORIES:Escola
ATTACH;FMTTYPE=image/jpeg:https://www.epmacau.edu.mo/wp-content/uploads/2025/11/FestivalCrianca_cpm.jpg
END:VEVENT
BEGIN:VEVENT
DTSTART;TZID=Asia/Macau:20260115T183000
DTEND;TZID=Asia/Macau:20260115T200000
DTSTAMP:20260423T060926
CREATED:20260115T042343Z
LAST-MODIFIED:20260115T042630Z
UID:33476-1768501800-1768507200@www.epmacau.edu.mo
SUMMARY:Bullying na Escola – Estratégias práticas para um ambiente escolar mais seguro
DESCRIPTION:
URL:https://www.epmacau.edu.mo/calendario-evento/bullying-na-escola-estrategias-praticas-para-um-ambiente-escolar-mais-seguro/
LOCATION:Auditório da EPM\, Av. do Infante Dom Henrique\, Macau\, Macau
CATEGORIES:Centro de Formação EPM,Escola
ATTACH;FMTTYPE=image/jpeg:https://www.epmacau.edu.mo/wp-content/uploads/2026/01/Cartaz-de-divulgacao.jpg
END:VEVENT
BEGIN:VEVENT
DTSTART;VALUE=DATE:20260127
DTEND;VALUE=DATE:20260129
DTSTAMP:20260423T060926
CREATED:20260116T010127Z
LAST-MODIFIED:20260116T010132Z
UID:33496-1769472000-1769644799@www.epmacau.edu.mo
SUMMARY:Feira do Livro "TROCA E LÊ"
DESCRIPTION:A feira do livro “Troca e Lê” pretende incentivar para a leitura\, oferecendo a possibilidade de acesso a livros variados e promovendo atividades que tornem a leitura prazerosa e relevante. Intenta ser diferente de uma feira tradicional de livros\, pois não envolve compras e vendas. Em vez disso\, é um espaço de troca e partilha de livros\, onde cada pessoa pode trazer um ou mais livros e levar outros que lhe agradem\, promovendo a leitura e a reutilização. Como o próprio nome indica\, não há dinheiro envolvido\, e o objetivo é dar nova vida a livros usados. Os participantes podem levar livros que já não querem e levar outros que lhes interessem. \n 
URL:https://www.epmacau.edu.mo/calendario-evento/feira-do-livro-troca-e-le/
LOCATION:Escola Portuguesa de Macau\, Av. do Infante Dom Henrique\, Macau\, Macau
CATEGORIES:Escola
END:VEVENT
BEGIN:VEVENT
DTSTART;TZID=Asia/Macau:20260129T181500
DTEND;TZID=Asia/Macau:20260129T191500
DTSTAMP:20260423T060926
CREATED:20260115T061446Z
LAST-MODIFIED:20260115T061446Z
UID:33466-1769710500-1769714100@www.epmacau.edu.mo
SUMMARY:Palestras "Ousa Pensar 2026” - Discutir o Mundo pelos olhos da razão
DESCRIPTION:Formulário de Inscrição \n \nAs palestras “Ousa Pensar” são um ciclo de palestras via Zoom promovidas pela Associação de Professores de Filosofia em Portugal e têm como objetivo apresentar aos jovens do ensino secundário\, professores e pensadores outras formas de conhecerem e adquirirem o pensamento filosófico. \n 
URL:https://www.epmacau.edu.mo/calendario-evento/palestras-ousa-pensar-2026-discutir-o-mundo-pelos-olhos-da-razao/
LOCATION:Auditório da EPM\, Av. do Infante Dom Henrique\, Macau\, Macau
END:VEVENT
BEGIN:VEVENT
DTSTART;VALUE=DATE:20260130
DTEND;VALUE=DATE:20260201
DTSTAMP:20260423T060926
CREATED:20260116T010107Z
LAST-MODIFIED:20260116T014030Z
UID:33493-1769731200-1769903999@www.epmacau.edu.mo
SUMMARY:XXIII Concurso de Declamação de Poesia da EPM
DESCRIPTION:Realizado há já 23 anos\, este concurso visa estimular a manifestação artística e a criatividade; incutir o gosto pela leitura expressiva de poemas\, promovendo\, deste modo\, o conhecimento da vida e da obra de escritores Portugueses ou oriundos de Países de Língua Oficial Portuguesa.
URL:https://www.epmacau.edu.mo/calendario-evento/xxiii-concurso-de-declamacao-de-poesia-da-epm/
LOCATION:Auditório da EPM\, Av. do Infante Dom Henrique\, Macau\, Macau
CATEGORIES:Escola
END:VEVENT
BEGIN:VEVENT
DTSTART;VALUE=DATE:20260205
DTEND;VALUE=DATE:20260213
DTSTAMP:20260423T060926
CREATED:20260203T005548Z
LAST-MODIFIED:20260205T011226Z
UID:33563-1770249600-1770940799@www.epmacau.edu.mo
SUMMARY:Por Moçambique - Ajude a Ajudar!
DESCRIPTION:EPM Solidária | Campanha para Moçambique\nDe 5 a 12 de fevereiro\, o átrio interior da EPM terá um ponto de recolha de donativos para Moçambique. \nPrecisamos de:\n👕 Roupas de verão (especialmente para crianças).\n📚 Material escolar novo ou em bom estado. \nToda a ajuda será enviada via Consulado de Moçambique em Macau. \nJunte-se a nós e faça a diferença!
URL:https://www.epmacau.edu.mo/calendario-evento/por-mocambique-ajude-a-ajudar/
LOCATION:Átrio Interior da EPM
CATEGORIES:Escola
END:VEVENT
BEGIN:VEVENT
DTSTART;TZID=Asia/Macau:20260207T100000
DTEND;TZID=Asia/Macau:20260207T130000
DTSTAMP:20260423T060926
CREATED:20260205T011008Z
LAST-MODIFIED:20260205T011012Z
UID:33574-1770458400-1770469200@www.epmacau.edu.mo
SUMMARY:Dia do Mandarim
DESCRIPTION:Celebração do Dia do Mandarim na EPM \nA Escola Portuguesa de Macau (EPM) tem o prazer de anunciar a celebração do Dia do Mandarim\, que se realizará no próximo dia 7 de fevereiro (sábado)\, às 10:00 horas\, no Átrio Interior da escola. \nEste evento\, organizado pelo Grupo Disciplinar de Língua Chinesa da EPM\, visa promover e celebrar a língua e a cultura chinesas junto de toda a comunidade escolar. Será uma manhã dedicada ao intercâmbio cultural\, à partilha de saberes e ao convívio entre alunos\, docentes\, funcionários e famílias. \nA participação é aberta a todos os elementos da comunidade educativa. \nA EPM acredita que a valorização das diferentes línguas e culturas é fundamental para uma educação integral e para a construção de uma comunidade escolar inclusiva e enriquecida pela diversidade. \nContamos com a presença de todos para celebrarmos juntos esta data!
URL:https://www.epmacau.edu.mo/calendario-evento/dia-do-mandarim/
LOCATION:Escola Portuguesa de Macau\, Av. do Infante Dom Henrique\, Macau\, Macau
CATEGORIES:Escola
END:VEVENT
BEGIN:VEVENT
DTSTART;VALUE=DATE:20260228
DTEND;VALUE=DATE:20260301
DTSTAMP:20260423T060926
CREATED:20260105T005950Z
LAST-MODIFIED:20260205T005854Z
UID:33520-1772236800-1772323199@www.epmacau.edu.mo
SUMMARY:Jogo de CampIÕES
DESCRIPTION:O Jogo de CampIÕES consiste num torneio em que os participantes — individualmente ou em equipas de 2 a 3 elementos — recebem aleatoriamente um catião e um anião. A partir destes\, devem escrever a fórmula química correta do composto iónico formado e o nome da substância correspondente. \nA pontuação é atribuída com base na correção das respostas e no tempo de execução. \nO torneio será realizado no auditório e será aberto ao público que queira assistir.
URL:https://www.epmacau.edu.mo/calendario-evento/jogo-de-campioes/
LOCATION:Escola Portuguesa de Macau\, Av. do Infante Dom Henrique\, Macau\, Macau
CATEGORIES:Escola
ATTACH;FMTTYPE=image/png:https://www.epmacau.edu.mo/wp-content/uploads/2026/01/Cartaz.png
END:VEVENT
BEGIN:VEVENT
DTSTART;TZID=Asia/Macau:20260423T163000
DTEND;TZID=Asia/Macau:20260528T183000
DTSTAMP:20260423T060926
CREATED:20260305T093239Z
LAST-MODIFIED:20260305T093244Z
UID:33815-1776961800-1779993000@www.epmacau.edu.mo
SUMMARY:Ação de Formação: A INTELIGÊNCIA ARTIFICIAL NA SALA DE AULA…POR QUE NÃO?
DESCRIPTION:Ação de formação\nEstratégias Práticas e Criativas com as Tecnologias Digitais (2.ª ed.) \nFormadora: Andreia Patrícia Neves Veloso\nData: 02 de Maio a 30 de Maio de 2026\nDuração: 25 horas (15 h síncronas e 10 h assíncronas)\nHorário: 16h30 – 20h00\nDestinatários: Educadores de Infância\, Professores do Ensino Básico\, do Ensino Secundário e de Educação Especial. \nFicha da Ação de Formação \n 
URL:https://www.epmacau.edu.mo/calendario-evento/acao-de-formacao-a-inteligencia-artificial-na-sala-de-aulapor-que-nao/
LOCATION:Centro de Formação da EPM
CATEGORIES:Escola
END:VEVENT
BEGIN:VEVENT
DTSTART;VALUE=DATE:20260424
DTEND;VALUE=DATE:20260425
DTSTAMP:20260423T060926
CREATED:20260421T012740Z
LAST-MODIFIED:20260421T015003Z
UID:35477-1776988800-1777075199@www.epmacau.edu.mo
SUMMARY:Comemorações do 25 de ABRIL
DESCRIPTION:
URL:https://www.epmacau.edu.mo/calendario-evento/comemoracoes-do-25-de-abril/
LOCATION:Escola Portuguesa de Macau\, Av. do Infante Dom Henrique\, Macau\, Macau
CATEGORIES:Escola
END:VEVENT
BEGIN:VEVENT
DTSTART;TZID=Asia/Macau:20260502T163000
DTEND;TZID=Asia/Macau:20260530T200000
DTSTAMP:20260423T060926
CREATED:20260305T093553Z
LAST-MODIFIED:20260305T093559Z
UID:33817-1777739400-1780171200@www.epmacau.edu.mo
SUMMARY:Ação de Formação: ESTRATÉGIAS E PRÁTICAS CRIATIVAS COM AS TECNOLOGIAS DIGITAIS
DESCRIPTION:Ação de formação\nEstratégias Práticas e Criativas com as Tecnologias Digitais (2.ª ed.) \nFormadora: Andreia Patrícia Neves Veloso\nData: 02 de Maio a 30 de Maio de 2026\nDuração: 25 horas (15 h síncronas e 10 h assíncronas)\nHorário: 16h30 – 20h00\nDestinatários: Educadores de Infância\, Professores do Ensino Básico\, do Ensino Secundário e de Educação Especial.\nFicha da Ação de Formação
URL:https://www.epmacau.edu.mo/calendario-evento/acao-de-formacao-estrategias-e-praticas-criativas-com-as-tecnologias-digitais/
LOCATION:Centro de Formação da EPM
CATEGORIES:Escola
END:VEVENT
END:VCALENDAR