BEGIN:VCALENDAR
VERSION:2.0
PRODID:-//EPM - ECPv6.15.17//NONSGML v1.0//EN
CALSCALE:GREGORIAN
METHOD:PUBLISH
X-ORIGINAL-URL:https://www.epmacau.edu.mo
X-WR-CALDESC:Eventos para EPM
REFRESH-INTERVAL;VALUE=DURATION:PT1H
X-Robots-Tag:noindex
X-PUBLISHED-TTL:PT1H
BEGIN:VTIMEZONE
TZID:Asia/Macau
BEGIN:STANDARD
TZOFFSETFROM:+0800
TZOFFSETTO:+0800
TZNAME:CST
DTSTART:20210101T000000
END:STANDARD
END:VTIMEZONE
BEGIN:VEVENT
DTSTART;TZID=Asia/Macau:20221019T060000
DTEND;TZID=Asia/Macau:20221020T060000
DTSTAMP:20260425T184713
CREATED:20220929T070410Z
LAST-MODIFIED:20221228T234836Z
UID:9878-1666159200-1666245600@www.epmacau.edu.mo
SUMMARY:Inscrição ACC 2022-2023
DESCRIPTION:[vc_row][vc_column][vc_column_text] \nAtividades de Complemento Curricular 2022-2023\nINSCRIÇÃO: 18 e 19 de outubro. (Online). ⇒Boletim de inscrição 22h00 do dia 18 (3a feira) às 22h00 do dia 19 (4a feira). \nAFIXAÇÃO DAS LISTAS PROVISÓRIAS: 21 de outubro no átrio da EPM (as colocações serão feitas pela ordem de entrada da inscrição). \nPAGAMENTO: 24 a 25 de outubro. \nAFIXAÇÃO DAS LISTAS DEFINITIVAS: 27 de outubro no átrio da EPM. \nINÍCIO DAS ATIVIDADES (ACC): 31 de outubro de 2022. \nFIM DAS ATIVIDADES (ACC): 3 de junho de 2023. (Deverá consultar os dias de cada ACC registados na Descrição das Atividades). \n⇒Clique no link para mais informações \nNOTE BEM: \n\nCaso submeta mais do que uma inscrição online\, será considerada válida a última inscrição.\nSe os alunos não efetuarem o pagamento\, não assegurarão a frequência na atividade e serão\nexcluídos da mesma\, cedendo a vaga a outros alunos interessados.\nEstas atividades\, que visam a realização pessoal dos alunos numa perspetiva de utilização\ncriativa e formativa dos seus tempos livres\, são de escolha livre\, devendo a sua frequência ser\nautorizada pelo Encarregado de Educação.\nA frequência torna-se obrigatória depois de assumido o compromisso de participação.\nOs professores/monitores farão uma avaliação qualitativa\, no final de cada período\, que será\nregistada no GIAE\, transmitida ao DT e aos EE.\nO número máximo de inscrições em Atividades de Complemento Curricular por aluno é de\nduas.\nCaso o professor/monitor não compareça a alguma aula\, o EE será reembolsado do valor da\nmesma.\nAs listas definitivas com o nome do aluno e das respetivas atividades de complemento\ncurricular serão afixadas no átrio da escola após a data de pagamento.\nO aluno tem direito à devolução do valor da matrícula até ao momento do início das aulas.\n\n[/vc_column_text][vc_column_text] \n課外活動報名 2022/2023  \n報名日期: 10 月 18 至 19 日(網上登記) ⇒ 報名表格  網上辦理時間:10 月 18 日(星期二)晚上 22:00 至 10 月 19 日(星期三)晚上 22:00 \n臨時名單張貼日期: 10 月 21 日 於學校大堂公佈(活動名額以先到先得的方式分配)。 繳交活動費用日期:10 月 24 至 25 日 \n確定名單張貼日期: 10 月 27 日 於學校大堂公佈 \n活動開始日期: 2022 年 10 月 31 日 \n活動結束日期: 2023 年 6 月 3 日(請於課外活動簡介查閱各項活動的上課日期) \n⇒可於下面連結查閱相關資訊  \n注意: \n\n如在網上遞交多於一次之登記申請本校將以最後之登記資料為準。\n如不繳付相關之活動費用學生將不能參加活動並將被刪除名單，讓出名額。\n活動目的為實現學生的自我價值並以有創意及培訓之形式利用餘暇.學生可自由選\n擇活動而其參與必須得到監護人的同意。\n確實活動報名後學生必須出席活動。\n活動導師將於每個學期為學生進行定性評估，結果將由班主任轉告學生的監護人。\n每位學生可報名參加最多2項活動。\n如活動導師因事缺課，學生可獲退還當日的活動費用。\n課外活動之確定名單(全年活動)將於繳款期後於學校大堂公佈。\n學生有權於活動開展前申請退回報名費。\n\n[/vc_column_text][/vc_column][/vc_row]
URL:https://www.epmacau.edu.mo/calendario-evento/inscricao-acc-2022-2023/
LOCATION:Escola Portuguesa de Macau\, Av. do Infante Dom Henrique\, Macau\, Macau
CATEGORIES:Escola
END:VEVENT
BEGIN:VEVENT
DTSTART;VALUE=DATE:20221201
DTEND;VALUE=DATE:20221216
DTSTAMP:20260425T184713
CREATED:20221208T170807Z
LAST-MODIFIED:20221208T171221Z
UID:9973-1669881600-1671091199@www.epmacau.edu.mo
SUMMARY:Concurso de Conhecimento Geral
DESCRIPTION:
URL:https://www.epmacau.edu.mo/calendario-evento/concurso-de-conhecimento-geral/
LOCATION:Escola Portuguesa de Macau\, Av. do Infante Dom Henrique\, Macau\, Macau
CATEGORIES:Escola
END:VEVENT
BEGIN:VEVENT
DTSTART;VALUE=DATE:20221209
DTEND;VALUE=DATE:20221211
DTSTAMP:20260425T184713
CREATED:20221208T170109Z
LAST-MODIFIED:20221208T171316Z
UID:9968-1670572800-1670659199@www.epmacau.edu.mo
SUMMARY:Célébration du Noël
DESCRIPTION:
URL:https://www.epmacau.edu.mo/calendario-evento/celebration-du-noel/
LOCATION:Escola Portuguesa de Macau\, Av. do Infante Dom Henrique\, Macau\, Macau
CATEGORIES:Escola
END:VEVENT
BEGIN:VEVENT
DTSTART;VALUE=DATE:20221209
DTEND;VALUE=DATE:20221211
DTSTAMP:20260425T184713
CREATED:20221208T170227Z
LAST-MODIFIED:20221228T234725Z
UID:9969-1670572800-1670659199@www.epmacau.edu.mo
SUMMARY:Comemoração do Dia Internacional Contra a Corrupção
DESCRIPTION:
URL:https://www.epmacau.edu.mo/calendario-evento/comemoracao-do-dia-internacional-contra-a-corrupcao/
LOCATION:Escola Portuguesa de Macau\, Av. do Infante Dom Henrique\, Macau\, Macau
CATEGORIES:Escola
ATTACH;FMTTYPE=image/jpeg:https://www.epmacau.edu.mo/wp-content/uploads/2022/12/dia-anticorrup-scaled.jpg
END:VEVENT
BEGIN:VEVENT
DTSTART;VALUE=DATE:20221209
DTEND;VALUE=DATE:20221211
DTSTAMP:20260425T184713
CREATED:20221208T170555Z
LAST-MODIFIED:20221228T234658Z
UID:9970-1670572800-1670659199@www.epmacau.edu.mo
SUMMARY:Dia Internacional Contra a Corrupção. Exposição de Cartazes/Trabalhos Sobre os Direitos Humanos -Anticorrupção
DESCRIPTION:
URL:https://www.epmacau.edu.mo/calendario-evento/dia-internacional-contra-a-corrupcao-exposicao-de-cartazes-trabalhos-sobre-os-direitos-humanos-anticorrupcao/
LOCATION:Escola Portuguesa de Macau\, Av. do Infante Dom Henrique\, Macau\, Macau
CATEGORIES:Escola
ATTACH;FMTTYPE=image/jpeg:https://www.epmacau.edu.mo/wp-content/uploads/2022/12/dia-anticorrup-scaled.jpg
END:VEVENT
BEGIN:VEVENT
DTSTART;VALUE=DATE:20221211
DTEND;VALUE=DATE:20221218
DTSTAMP:20260425T184713
CREATED:20221208T170704Z
LAST-MODIFIED:20221208T172930Z
UID:9972-1670745600-1671263999@www.epmacau.edu.mo
SUMMARY:A Hora do Código
DESCRIPTION:
URL:https://www.epmacau.edu.mo/calendario-evento/a-hora-do-codigo-2/
LOCATION:Escola Portuguesa de Macau\, Av. do Infante Dom Henrique\, Macau\, Macau
CATEGORIES:Escola
ATTACH;FMTTYPE=image/jpeg:https://www.epmacau.edu.mo/wp-content/uploads/2022/12/hora-do-codigo-2015.jpg
END:VEVENT
BEGIN:VEVENT
DTSTART;VALUE=DATE:20221214
DTEND;VALUE=DATE:20221216
DTSTAMP:20260425T184713
CREATED:20221208T171004Z
LAST-MODIFIED:20221228T234615Z
UID:9975-1671004800-1671091199@www.epmacau.edu.mo
SUMMARY:Fim do 1º Período
DESCRIPTION:
URL:https://www.epmacau.edu.mo/calendario-evento/fim-do-1o-periodo/
LOCATION:Escola Portuguesa de Macau\, Av. do Infante Dom Henrique\, Macau\, Macau
CATEGORIES:Escola
END:VEVENT
BEGIN:VEVENT
DTSTART;VALUE=DATE:20230116
DTEND;VALUE=DATE:20230205
DTSTAMP:20260425T184713
CREATED:20221208T172106Z
LAST-MODIFIED:20221228T234033Z
UID:9977-1673856000-1675497599@www.epmacau.edu.mo
SUMMARY:Celebração do Ano Novo Chinês – Exposição de Trabalhos dos Alunos
DESCRIPTION:
URL:https://www.epmacau.edu.mo/calendario-evento/celebracao-do-ano-novo-chines-exposicao-de-trabalhos-dos-alunos/
LOCATION:Escola Portuguesa de Macau\, Av. do Infante Dom Henrique\, Macau\, Macau
CATEGORIES:Escola
ATTACH;FMTTYPE=image/jpeg:https://www.epmacau.edu.mo/wp-content/uploads/2022/12/2023-coelho.jpg
END:VEVENT
BEGIN:VEVENT
DTSTART;VALUE=DATE:20230224
DTEND;VALUE=DATE:20230227
DTSTAMP:20260425T184713
CREATED:20230205T171814Z
LAST-MODIFIED:20230205T171814Z
UID:10083-1677225600-1677398399@www.epmacau.edu.mo
SUMMARY:XX Concurso de Declamação de Poesia
DESCRIPTION:
URL:https://www.epmacau.edu.mo/calendario-evento/xx-concurso-de-declamacao-de-poesia/
LOCATION:Escola Portuguesa de Macau\, Av. do Infante Dom Henrique\, Macau\, Macau
CATEGORIES:Escola
ATTACH;FMTTYPE=image/png:https://www.epmacau.edu.mo/wp-content/uploads/2023/02/logo-declamacao22-23.png
END:VEVENT
BEGIN:VEVENT
DTSTART;VALUE=DATE:20230301
DTEND;VALUE=DATE:20230308
DTSTAMP:20260425T184713
CREATED:20230224T065524Z
LAST-MODIFIED:20230224T065524Z
UID:10213-1677628800-1678233599@www.epmacau.edu.mo
SUMMARY:Inscrições para o Ano Letivo de 2023/2024 學年 學生註冊
DESCRIPTION:
URL:https://www.epmacau.edu.mo/calendario-evento/inscricoes-para-o-ano-letivo-de-2023-2024-%e5%ad%b8%e5%b9%b4-%e5%ad%b8%e7%94%9f%e8%a8%bb%e5%86%8a/
LOCATION:Escola Portuguesa de Macau\, Av. do Infante Dom Henrique\, Macau\, Macau
CATEGORIES:Escola
ATTACH;FMTTYPE=image/png:https://www.epmacau.edu.mo/wp-content/uploads/2023/02/logo-Inscricoes-23-24.png
END:VEVENT
BEGIN:VEVENT
DTSTART;VALUE=DATE:20230301
DTEND;VALUE=DATE:20230308
DTSTAMP:20260425T184713
CREATED:20230224T072155Z
LAST-MODIFIED:20230224T072155Z
UID:10218-1677628800-1678233599@www.epmacau.edu.mo
SUMMARY:PROPINAS 3ª Prestação 學費 第三期
DESCRIPTION:[vc_row][vc_column][vc_column_text]Informamos que decorre de 1 a 7 de março o período de pagamento da 3ª prestação das propinas na EPM\, referente ao corrente ano letivo. Caso já tenha aderido ao Serviço de Pagamento Automático\, o débito na sua conta vai ocorrer a 7 de março de 2023. \n茲通知閣下，本學年度第三期學費繳費日期為 03月1至7日。已辦理自動轉帳申請，扣款將於2023年03月7日 進行。[/vc_column_text][/vc_column][/vc_row]
URL:https://www.epmacau.edu.mo/calendario-evento/propinas-3a-prestacao-%e5%ad%b8%e8%b2%bb-%e7%ac%ac%e4%b8%89%e6%9c%9f/
LOCATION:Escola Portuguesa de Macau\, Av. do Infante Dom Henrique\, Macau\, Macau
CATEGORIES:Escola
END:VEVENT
BEGIN:VEVENT
DTSTART;TZID=Asia/Macau:20230426T124500
DTEND;TZID=Asia/Macau:20230426T130000
DTSTAMP:20260425T184713
CREATED:20230420T044816Z
LAST-MODIFIED:20230420T044835Z
UID:14628-1682513100-1682514000@www.epmacau.edu.mo
SUMMARY:25 de Abril 49º aniversário
DESCRIPTION:[vc_row][vc_column][vc_column_text]Exposição de Trabalhos alusivos ao 25 de Abril \n\nAlunos do 1º Ciclo\, 6º e 12º anos.\n\nCanções de Abril \n\nTuna da EPM e alunos do 6º ano\, 26/04/2023 às 12:45\, no átrio interior.\n\n[/vc_column_text][/vc_column][/vc_row]
URL:https://www.epmacau.edu.mo/calendario-evento/25-de-abril-49o-aniversario/
LOCATION:Escola Portuguesa de Macau\, Av. do Infante Dom Henrique\, Macau\, Macau
CATEGORIES:Escola
ATTACH;FMTTYPE=image/jpeg:https://www.epmacau.edu.mo/wp-content/uploads/2023/04/25abril-2023_web@0.5x.jpg
END:VEVENT
BEGIN:VEVENT
DTSTART;VALUE=DATE:20230513
DTEND;VALUE=DATE:20230514
DTSTAMP:20260425T184713
CREATED:20230510T010535Z
LAST-MODIFIED:20230510T010535Z
UID:14677-1683936000-1684022399@www.epmacau.edu.mo
SUMMARY:Workshop "Arte e Movimento" (inspirado em Segni Mossi).
DESCRIPTION:[vc_row][vc_column][vc_column_text]Workshop com inspiração no projecto “Segni Mossi”\, que mistura música\, movimento corporal e arte. “Segni mossi” é um projeto de movimento e signo gráfico para crianças e adultos de Alessandro Lumare e Simona Lobefaro. Uma oportunidade única de vivenciarmos juntos a unidade entre duas línguas normalmente consideradas separadas.[/vc_column_text][/vc_column][/vc_row]
URL:https://www.epmacau.edu.mo/calendario-evento/workshop-arte-e-movimento-inspirado-em-segni-mossi/
LOCATION:Escola Portuguesa de Macau\, Av. do Infante Dom Henrique\, Macau\, Macau
CATEGORIES:Escola
END:VEVENT
BEGIN:VEVENT
DTSTART;TZID=Asia/Macau:20230520T110000
DTEND;TZID=Asia/Macau:20230520T123000
DTSTAMP:20260425T184713
CREATED:20230515T093751Z
LAST-MODIFIED:20230515T094019Z
UID:14716-1684580400-1684585800@www.epmacau.edu.mo
SUMMARY:Festa da Música 2022-2023
DESCRIPTION:[vc_row][vc_column][vc_video link=”https://www.youtube.com/shorts/m9MS8qoLM_4″ align=”center”][/vc_column][/vc_row]
URL:https://www.epmacau.edu.mo/calendario-evento/festa-da-musica-2022-2023/
LOCATION:Escola Portuguesa de Macau\, Av. do Infante Dom Henrique\, Macau\, Macau
CATEGORIES:Escola
END:VEVENT
BEGIN:VEVENT
DTSTART;VALUE=DATE:20230911
DTEND;VALUE=DATE:20230912
DTSTAMP:20260425T184713
CREATED:20230906T004441Z
LAST-MODIFIED:20230906T004509Z
UID:19536-1694390400-1694476799@www.epmacau.edu.mo
SUMMARY:INÍCIO DAS ATIVIDADES LETIVAS 2023-2024
DESCRIPTION:[vc_row][vc_column][vc_column_text]Receção aos alunos pelos Diretores de Turma / Professores Titulares \n  \n1º Ciclo \n2º ano\, 3º ano\, 4ºano – 09:30 / 13:00 \n1º ano – 10:00 / 13:00 \n  \n2º\, 3º Ciclos e Ensino Secundário – 11:00 / 13:00[/vc_column_text][/vc_column][/vc_row]
URL:https://www.epmacau.edu.mo/calendario-evento/inicio-do-ano-letivo-2023-2024/
LOCATION:Escola Portuguesa de Macau\, Av. do Infante Dom Henrique\, Macau\, Macau
CATEGORIES:Escola
END:VEVENT
BEGIN:VEVENT
DTSTART;VALUE=DATE:20230911
DTEND;VALUE=DATE:20230912
DTSTAMP:20260425T184713
CREATED:20230907T030305Z
LAST-MODIFIED:20230907T030305Z
UID:19575-1694390400-1694476799@www.epmacau.edu.mo
SUMMARY:2023-2024 學年開學日
DESCRIPTION:[vc_row][vc_column][vc_column_text]2023-2024 學年開學日 \n9 月 11 日 \n班主任/辦學老師接待學生时间： \n初小 \n二年級、三年級、四年級 – 09:30 / 13:00 \n一年級 – 10:00 / 13:00 \n  \n高小、初中、高中 – 11:00 / 13:00[/vc_column_text][/vc_column][/vc_row]
URL:https://www.epmacau.edu.mo/calendario-evento/2023-2024-%e5%ad%b8%e5%b9%b4%e9%96%8b%e5%ad%b8%e6%97%a5/
LOCATION:Escola Portuguesa de Macau\, Av. do Infante Dom Henrique\, Macau\, Macau
CATEGORIES:Escola
END:VEVENT
BEGIN:VEVENT
DTSTART;VALUE=DATE:20231011
DTEND;VALUE=DATE:20231029
DTSTAMP:20260425T184713
CREATED:20231018T035408Z
LAST-MODIFIED:20231018T035500Z
UID:19767-1696982400-1698537599@www.epmacau.edu.mo
SUMMARY:Campanha de Solidariedade Animal
DESCRIPTION:[vc_row][vc_column][vc_column_text]De 11 a 28 de outubro encontra-se a decorrer a Campanha de Solidariedade Animal que visa a angariação de fundos através da venda de rifas para ajudar a Associação MASDAW – Associação de ajuda a cães de rua e bem-estar animal. Ao mesmo tempo que se trabalha o tema dentro da sala de aula\, encontram-se a ser expostos os trabalhos à comunidade escolar no átrio interior da escola.[/vc_column_text][/vc_column][/vc_row]
URL:https://www.epmacau.edu.mo/calendario-evento/19767/
LOCATION:Escola Portuguesa de Macau\, Av. do Infante Dom Henrique\, Macau\, Macau
CATEGORIES:Escola
ATTACH;FMTTYPE=image/png:https://www.epmacau.edu.mo/wp-content/uploads/2023/10/cartaz.png
END:VEVENT
BEGIN:VEVENT
DTSTART;VALUE=DATE:20231020
DTEND;VALUE=DATE:20231104
DTSTAMP:20260425T184713
CREATED:20231018T032440Z
LAST-MODIFIED:20231018T032440Z
UID:19761-1697760000-1699055999@www.epmacau.edu.mo
SUMMARY:Exposição Itinerante na EPM: "Uma Passeata pela Ruas de Macau - Conhecer Macau em 2023"
DESCRIPTION:[vc_row][vc_column][vc_column_text]Organizada pelo IAM (Instituto para os Assuntos Municipais)\, a exposição estará patente no átrio interior da escola\, entre os dias 20 de outubro a 3 de novembro\, e apresentará conteúdos (textos e imagens) sobre dois percursos\, com versões em chinês e em português: \n\n“Traços interessantes do Bairro Lin Kai”;\n“Viagem à Aldeia Comunitária do Bairro de Mong Ha”\n\nInclui curtas-metragens e um jogo de perguntas e respostas aos visitantes (alunos\, professores\, funcionários ou outros)\, os quais recebem uma lembrança\, se acertarem todas as respostas do referido jogo.[/vc_column_text][/vc_column][/vc_row]
URL:https://www.epmacau.edu.mo/calendario-evento/exposicao-itinerante-na-epm-uma-passeata-pela-ruas-de-macau-conhecer-macau-em-2023/
LOCATION:Escola Portuguesa de Macau\, Av. do Infante Dom Henrique\, Macau\, Macau
CATEGORIES:Escola
ATTACH;FMTTYPE=image/png:https://www.epmacau.edu.mo/wp-content/uploads/2023/10/passeata.png
END:VEVENT
BEGIN:VEVENT
DTSTART;VALUE=DATE:20231204
DTEND;VALUE=DATE:20231208
DTSTAMP:20260425T184713
CREATED:20231127T005456Z
LAST-MODIFIED:20231130T071138Z
UID:20017-1701648000-1701993599@www.epmacau.edu.mo
SUMMARY:Exposição Interativa: 3ª Edição do Programa RedEscolas AntiCorrupção All4Integrity "Promover um Caminho de Integridade"
DESCRIPTION:[vc_row][vc_column][vc_column_text]De 4 a 7 de dezembro vai decorrer no átrio interior da EPM\, uma Exposição Interativa no âmbito do Programa RedEscolas AntiCorrupção All4Integrity. Subordinada ao tema da 3ª Edição “Promover um Caminho de Integridade”\, a mesma procura promover os Direitos Humanos e os Valores de Integridade de uma forma partilhada e lúdica. A ser dinamizada pelos alunos\, consistirá em jogos\, poemas\, QR codes\, questionários e curta-metragem\, todos por um caminho de integridade! No dia 4 será apresentado um breve momento comemorativo do Dia Internacional Contra a Corrupção e do Dia Internacional dos Direitos Humanos.[/vc_column_text][/vc_column][/vc_row][vc_row][vc_column][vc_single_image image=”20031″ img_size=”large” alignment=”center”][/vc_column][/vc_row]
URL:https://www.epmacau.edu.mo/calendario-evento/exposicao-interativa-3a-edicao-do-programa-redescolas-anticorrupcao-promover-um-caminho-de-integridade/
LOCATION:Átrio Interior da EPM
CATEGORIES:Escola
END:VEVENT
BEGIN:VEVENT
DTSTART;VALUE=DATE:20240110
DTEND;VALUE=DATE:20240111
DTSTAMP:20260425T184713
CREATED:20240105T022007Z
LAST-MODIFIED:20240105T022921Z
UID:20144-1704844800-1704931199@www.epmacau.edu.mo
SUMMARY:Jogo Final de Escalão B
DESCRIPTION:A equipa de futebol da EPM precisa do vosso apoio.\n\n\n 
URL:https://www.epmacau.edu.mo/calendario-evento/jogo-final-de-escalao-b/
LOCATION:Campo do Colégio D. Bosco (Yuet Wah)\, Est. Ferreira do Amaral n.o 6\, Macau\, Macau\, Macau
CATEGORIES:Desporto,Escola
END:VEVENT
BEGIN:VEVENT
DTSTART;VALUE=DATE:20240116
DTEND;VALUE=DATE:20240120
DTSTAMP:20260425T184713
CREATED:20240109T023810Z
LAST-MODIFIED:20240109T045709Z
UID:20150-1705363200-1705708799@www.epmacau.edu.mo
SUMMARY:Palestras subordinadas ao Tema: O Sono dos Adolescentes  青少年睡眠」主題講座
DESCRIPTION:Nos próximos dias 16 e 19 de janeiro vão decorrer no auditório da EPM duas palestras subordinadas ao tema: “O Sono dos Adolescentes”. Organizadas pelo Departamento de Cidadania no âmbito do desenvolvimento dos temas da saúde física e mental e hábitos de vida saudáveis\, as mesmas contarão com a presença da Dra. Joana Bento\, Médica Pediatra\, e serão dirigidas aos alunos das turmas 7º C\, 8º B\, 8º C\, 9º A\, 9º B e 10º A. \n1月16日和19日，澳門葡文學校將在禮堂舉辦兩場主題為「睡眠與青少年健康」的講座。 活動由公民部組織，以身心健康和健康生活習慣為主題，並由兒科專家 Joana Bento 醫生主講，對象為中學生。
URL:https://www.epmacau.edu.mo/calendario-evento/palestras-subordinadas-ao-tema-o-sono-dos-adolescentes/
LOCATION:Auditório da EPM\, Av. do Infante Dom Henrique\, Macau\, Macau
CATEGORIES:Escola
END:VEVENT
BEGIN:VEVENT
DTSTART;VALUE=DATE:20240118
DTEND;VALUE=DATE:20240119
DTSTAMP:20260425T184713
CREATED:20240110T004453Z
LAST-MODIFIED:20240111T080331Z
UID:20155-1705536000-1705622399@www.epmacau.edu.mo
SUMMARY:Palestras "Ousa Pensar" Edição 2024  「敢於思考」講座2024年版
DESCRIPTION:No dia 18 de janeiro\, pelas 18h15m\, irá decorrer no auditório da EPM uma palestra via Zoom intitulada de: “Um mundo cheio de ecrãs: a filosofia e a educação em tempos de telemóveis”\, pelo Doutor João Rebalde da Universidade do Porto. \n“A sociedade contemporânea promove o uso de tecnologias que têm o écran como denominador comum\, destacando-se entre estas os telemóveis. Este facto\, acompanhado por um desenvolvimento de redes\, aplicações\, jogos e conteúdos de informação\, tem potenciado o acesso globalizado a novas formas de comunicação e novas dinâmicas sociais\, profissionais\, educativas\, familiares ou de lazer. (…) Tendo em conta a crescente evidência dos efeitos perniciosos do uso descontrolado destas tecnologias\, as alterações sociais que promovem e a documentação científica que tem sido produzida sobre este assunto\, há um debate emergente sobre o lugar destas tecnologias na sociedade. A presente conferência pretende refletir sobre este fenómeno tecnológico e as suas consequências\, desde uma perspetiva filosófica e educativa.” Mais informações em: apfilosofia.org \n1 月18 日下午6 時15 分，波爾圖大學的João Rebalde 博士將透過Zoom在本校禮堂發表主題為”充滿屏幕的世界：手機時代的哲學與教育”的講座。 \n“當代社會提倡使用以屏幕為共同特徵的技術，手機是其中的佼佼者。伴隨著網路、應用軟體、遊戲和資訊內容的發展，這一事實促進了新的交流形式和新的社會、職業、教育、家庭和休閒動態的全球化。（……）鑑於越來越多的證據表明無節制地使用這些技術會產生有害影響及社會變革，同時相關的科學文獻也逐漸的增長，這引發了關於這些技術在社會中的地位的爭論。本次講座旨在從哲學和教育的角度反思這些技術現象及其後果”。更多資訊請參閱： apfilosofia.org
URL:https://www.epmacau.edu.mo/calendario-evento/palestras-ousa-pensar-edicao-2024/
CATEGORIES:Escola
END:VEVENT
BEGIN:VEVENT
DTSTART;TZID=Asia/Macau:20240120T100000
DTEND;TZID=Asia/Macau:20240120T130000
DTSTAMP:20260425T184713
CREATED:20240116T075945Z
LAST-MODIFIED:20240122T090031Z
UID:20175-1705744800-1705755600@www.epmacau.edu.mo
SUMMARY:Workshop Arte e Movimento  藝術與運動工作坊
DESCRIPTION:
URL:https://www.epmacau.edu.mo/calendario-evento/arte-e-movimento/
LOCATION:Ginásio da EPM\, Av. do Infante Dom Henrique\, Macau\, Macau
CATEGORIES:Desporto,Escola
END:VEVENT
BEGIN:VEVENT
DTSTART;VALUE=DATE:20240202
DTEND;VALUE=DATE:20240204
DTSTAMP:20260425T184713
CREATED:20240112T090421Z
LAST-MODIFIED:20240122T090140Z
UID:20169-1706832000-1707004799@www.epmacau.edu.mo
SUMMARY:XXI Concurso de Declamação de Poesia da EPM  第二十一屆澳門葡文學校詩歌比賽
DESCRIPTION:2024年2月2日、3日
URL:https://www.epmacau.edu.mo/calendario-evento/xxi-concurso-de-declamacao-de-poesia-da-epm/
CATEGORIES:Escola
END:VEVENT
BEGIN:VEVENT
DTSTART;VALUE=DATE:20240207
DTEND;VALUE=DATE:20240208
DTSTAMP:20260425T184713
CREATED:20240112T090421Z
LAST-MODIFIED:20240115T012207Z
UID:20170-1707264000-1707350399@www.epmacau.edu.mo
SUMMARY:Dia da Internet Mais Segura
DESCRIPTION:
URL:https://www.epmacau.edu.mo/calendario-evento/dia-da-internet-mais-segura/
LOCATION:Escola Portuguesa de Macau\, Av. do Infante Dom Henrique\, Macau\, Macau
CATEGORIES:Escola
END:VEVENT
BEGIN:VEVENT
DTSTART;VALUE=DATE:20240220
DTEND;VALUE=DATE:20240222
DTSTAMP:20260425T184713
CREATED:20240112T090421Z
LAST-MODIFIED:20240123T013820Z
UID:20171-1708387200-1708559999@www.epmacau.edu.mo
SUMMARY:Palestra de Educação Ambiental
DESCRIPTION: 
URL:https://www.epmacau.edu.mo/calendario-evento/palestra-de-educacao-ambiental/
CATEGORIES:Escola
END:VEVENT
BEGIN:VEVENT
DTSTART;VALUE=DATE:20240224
DTEND;VALUE=DATE:20240225
DTSTAMP:20260425T184713
CREATED:20240112T090421Z
LAST-MODIFIED:20240115T012115Z
UID:20172-1708732800-1708819199@www.epmacau.edu.mo
SUMMARY:Celebração do Ano Novo Chinês e do Dia do Mandarim
DESCRIPTION:
URL:https://www.epmacau.edu.mo/calendario-evento/celebracao-do-ano-novo-chines-e-do-dia-do-mandarim/
LOCATION:Escola Portuguesa de Macau\, Av. do Infante Dom Henrique\, Macau\, Macau
CATEGORIES:Escola
END:VEVENT
BEGIN:VEVENT
DTSTART;VALUE=DATE:20240226
DTEND;VALUE=DATE:20240302
DTSTAMP:20260425T184713
CREATED:20240112T090421Z
LAST-MODIFIED:20240116T075122Z
UID:20173-1708905600-1709337599@www.epmacau.edu.mo
SUMMARY:Dia Mundial da Geografia
DESCRIPTION:
URL:https://www.epmacau.edu.mo/calendario-evento/dia-mundial-da-geografia/
LOCATION:Escola Portuguesa de Macau\, Av. do Infante Dom Henrique\, Macau\, Macau
CATEGORIES:Escola
END:VEVENT
BEGIN:VEVENT
DTSTART;TZID=Asia/Macau:20240301T143000
DTEND;TZID=Asia/Macau:20240301T160000
DTSTAMP:20260425T184713
CREATED:20240226T070221Z
LAST-MODIFIED:20240226T071808Z
UID:20317-1709303400-1709308800@www.epmacau.edu.mo
SUMMARY:A LEI BÁSICA DE MACAU "UM PAÍS DOIS SISTEMAS"
DESCRIPTION:O Centro de Estudos “Um País\, Dois Sistemas” da Universidade Politécnica de Macau\, levará a cabo no próximo dia 1 de março\, sexta-feira\, pelas 14:40 horas\, uma palestra\, no auditório da escola\, com vista à divulgação e promoção da Lei Básica de Macau. \nAquela procurará\, acima de tudo\, consciencializar os mais jovens para a importância da literacia jurídica\, e para o reconhecimento e respeito pela Lei Básica. \n 
URL:https://www.epmacau.edu.mo/calendario-evento/a-lei-basica-de-macau-um-pais-dois-sistemas/
LOCATION:Auditório da EPM\, Av. do Infante Dom Henrique\, Macau\, Macau
CATEGORIES:Escola
END:VEVENT
BEGIN:VEVENT
DTSTART;TZID=Asia/Macau:20240312T143000
DTEND;TZID=Asia/Macau:20240312T163000
DTSTAMP:20260425T184713
CREATED:20240306T035512Z
LAST-MODIFIED:20240307T070733Z
UID:21767-1710253800-1710261000@www.epmacau.edu.mo
SUMMARY:Palestras e Sessões Informativas do Projeto Be Cool  「Be Cool 計劃」 專題講座
DESCRIPTION:[vc_row][vc_column][vc_column_text] \nNos próximos dias 12 e 15 de março\, pelas 14.40h\, vão realizar-se duas palestras informativas promovidas pelo projeto Be Cool da ARTM (Associação de Reabilitação de Toxicodependentes de Macau) no auditório da EPM. Baseado no programa “Unplugged”\, este projeto visa fortalecer as competências sociais dos jovens na tomada de decisões\, resolução de problemas\, lidar com as emoções\, saber comunicar\, entre outros objetivos. Estas palestras serão dirigidas aos alunos das turmas 7º C\, 8º B e C\, 9º A e B\, e 10º A\, e versarão sobre os malefícios das drogas ilegais\, cigarros\, cigarros eletrónicos e álcool. Durante a semana decorrerão ainda outras sessões informativas e preventivas\, adaptadas a cada nível etário\, durante o período de aulas da disciplina de Educação Cívica e Desenvolvimento. \n[/vc_column_text][vc_single_image image=”22197″ img_size=”medium” alignment=”center”][vc_column_text]在3月12日至15日下午2時40分，澳門戒毒康復協會(ARTM)將在學校禮堂舉辦兩場主題為「Be Cool計劃」的專題講座。 該計劃以「Unplugged」計劃為基礎，目的是加強年輕人在決策、解決問題、處理情緒、溝通等方面的社交技能。 講座將針對7年級C班、8年級B和C班、9年級A和B班以及10年級A班的學生，內容將涵蓋非法毒品、香菸、電子煙和酒精的危害。 本週，在公民教育發展課期間，並將會講解適合各個年齡層的其他資訊性和預防性主題。[/vc_column_text][/vc_column][/vc_row]
URL:https://www.epmacau.edu.mo/calendario-evento/palestras-e-sessoes-informativas-do-projeto-be-cool/
LOCATION:Auditório da EPM\, Av. do Infante Dom Henrique\, Macau\, Macau
CATEGORIES:Escola
END:VEVENT
END:VCALENDAR