BEGIN:VCALENDAR
VERSION:2.0
PRODID:-//EPM - ECPv6.15.17//NONSGML v1.0//EN
CALSCALE:GREGORIAN
METHOD:PUBLISH
X-WR-CALNAME:EPM
X-ORIGINAL-URL:https://www.epmacau.edu.mo
X-WR-CALDESC:Eventos para EPM
REFRESH-INTERVAL;VALUE=DURATION:PT1H
X-Robots-Tag:noindex
X-PUBLISHED-TTL:PT1H
BEGIN:VTIMEZONE
TZID:Asia/Macau
BEGIN:STANDARD
TZOFFSETFROM:+0800
TZOFFSETTO:+0800
TZNAME:CST
DTSTART:20230101T000000
END:STANDARD
END:VTIMEZONE
BEGIN:VEVENT
DTSTART;VALUE=DATE:20240531
DTEND;VALUE=DATE:20240629
DTSTAMP:20260423T154105
CREATED:20240523T003623Z
LAST-MODIFIED:20240527T034618Z
UID:23071-1717113600-1719619199@www.epmacau.edu.mo
SUMMARY:“Cinema na Escola” 「電影走進校園」
DESCRIPTION:[vc_row][vc_column][vc_column_text] \nDurante o mês de junho\, o cinema vai estar em destaque na EPM tendo como objetivo a promoção da literacia fílmica na comunidade escolar\, aproximando o cinema português do público mais jovem. Como forma de utilização de outros meios de articulação e flexibilização curricular e valorização do cinema enquanto instrumento pedagógico e artístico\, pretende-se despertar nos alunos o prazer para o hábito de ver cinema ao longo da vida. Em articulação com o Plano Nacional de Cinema* (“PNC”)\, o programa prevê: a visualização de filmes portugueses no auditório da EPM\, por parte dos alunos do 2º e 3º Ciclos e Secundário; a realização de duas palestras com a participação de António Sanmarful\, Diretor de Fotografia\, e Sérgio Basto Perez\, Realizador; a candidatura à iniciativa do PNC “O meu filme favorito”; e uma exposição final de trabalhos dos alunos no Átrio Interior da EPM. \n在六月，電影將成為澳門葡文學校的焦點! 這計劃的目的是在學園內推廣電影知識，讓葡萄牙電影走近年輕觀眾。 電影作為教學和藝術工具 ，並作為其它課程的一種方式，其目的是引發學生觀看電影的樂趣。 這計劃與國家電影計劃（Plano Nacional de Cinema）合作，內容包括：為高小、初中和高中生在我校禮堂觀看葡萄牙的電影；攝影指導 António Sanmarful 和導演Sérgio Basto Perez 將會前來我校舉辦兩場講座；這個計劃包含參與參加國家電影計劃的 「我最喜愛的電影」活動，以及在我校校園內舉辦學生作品展覽。[/vc_column_text][/vc_column][/vc_row][vc_row][vc_column][vc_single_image image=”23065″ img_size=”medium” alignment=”center” onclick=”img_link_large”][/vc_column][/vc_row]
URL:https://www.epmacau.edu.mo/calendario-evento/cinema-na-escola/
LOCATION:Escola Portuguesa de Macau\, Av. do Infante Dom Henrique\, Macau\, Macau
CATEGORIES:Escola
END:VEVENT
BEGIN:VEVENT
DTSTART;TZID=Asia/Macau:20240602T153000
DTEND;TZID=Asia/Macau:20240602T170000
DTSTAMP:20260423T154106
CREATED:20240530T045230Z
LAST-MODIFIED:20240530T045230Z
UID:23113-1717342200-1717347600@www.epmacau.edu.mo
SUMMARY:Jogo final de futebol do escalão C   C組 足球決賽
DESCRIPTION:[vc_row][vc_column width=”1/2″][vc_column_text] \nA equipa de futebol do Escalão C precisa do vosso apoio. \nContamos com a vossa presença! \n學校的C組 足球隊需要您們的支持。 \n我們期待您到場為我們打氣！ \n[/vc_column_text][/vc_column][vc_column width=”1/2″][vc_column_text]Data日期: 02/06/2024 Domingo / 星期日 \nHora時間: 15h30 \nLocal地點: Campo da Escola Cham Son澳門浸信中學足球場[/vc_column_text][/vc_column][/vc_row][vc_row][vc_column][vc_single_image image=”23114″ img_size=”medium” alignment=”center” onclick=”link_image”][/vc_column][/vc_row]
URL:https://www.epmacau.edu.mo/calendario-evento/jogo-final-de-futebol-do-escalao-c-c%e7%b5%84-%e8%b6%b3%e7%90%83%e6%b1%ba%e8%b3%bd/
LOCATION:Campo da Escola Cham Son澳門浸信中學足球場
CATEGORIES:Desporto
ATTACH;FMTTYPE=image/png:https://www.epmacau.edu.mo/wp-content/uploads/2024/05/futebolC.png
END:VEVENT
END:VCALENDAR