BEGIN:VCALENDAR
VERSION:2.0
PRODID:-//EPM - ECPv6.15.17//NONSGML v1.0//EN
CALSCALE:GREGORIAN
METHOD:PUBLISH
X-ORIGINAL-URL:https://www.epmacau.edu.mo
X-WR-CALDESC:Eventos para EPM
REFRESH-INTERVAL;VALUE=DURATION:PT1H
X-Robots-Tag:noindex
X-PUBLISHED-TTL:PT1H
BEGIN:VTIMEZONE
TZID:Asia/Macau
BEGIN:STANDARD
TZOFFSETFROM:+0800
TZOFFSETTO:+0800
TZNAME:CST
DTSTART:20200101T000000
END:STANDARD
END:VTIMEZONE
BEGIN:VEVENT
DTSTART;TZID=Asia/Macau:20210907T003000
DTEND;TZID=Asia/Macau:20210907T030000
DTSTAMP:20260426T014611
CREATED:20210107T003951Z
LAST-MODIFIED:20210629T011213Z
UID:1518-1630974600-1630983600@www.epmacau.edu.mo
SUMMARY:Exame 2ª Fase de Matemática A (635) - 12º Ano
DESCRIPTION:
URL:https://www.epmacau.edu.mo/calendario-evento/exame-2a-fase-de-matematica-a-635-12o-ano/
LOCATION:Escola Portuguesa de Macau\, Av. do Infante Dom Henrique\, Macau\, Macau
CATEGORIES:Exames
END:VEVENT
BEGIN:VEVENT
DTSTART;TZID=Asia/Macau:20210907T003000
DTEND;TZID=Asia/Macau:20210907T030000
DTSTAMP:20260426T014611
CREATED:20210107T004028Z
LAST-MODIFIED:20210629T011206Z
UID:1519-1630974600-1630983600@www.epmacau.edu.mo
SUMMARY:Exame 2ª Fase de Matemática B (735) - 11º Ano
DESCRIPTION:
URL:https://www.epmacau.edu.mo/calendario-evento/exame-2a-fase-de-matematica-b-735-11o-ano/
LOCATION:Escola Portuguesa de Macau\, Av. do Infante Dom Henrique\, Macau\, Macau
CATEGORIES:Exames
END:VEVENT
BEGIN:VEVENT
DTSTART;TZID=Asia/Macau:20210907T003000
DTEND;TZID=Asia/Macau:20210907T030000
DTSTAMP:20260426T014611
CREATED:20210107T004131Z
LAST-MODIFIED:20210629T011157Z
UID:1520-1630974600-1630983600@www.epmacau.edu.mo
SUMMARY:Exame 2ª Fase de Matemática Aplicada às Ciências Sociais (835) - 11º Ano
DESCRIPTION:
URL:https://www.epmacau.edu.mo/calendario-evento/exame-2a-fase-de-matematica-aplicada-as-ciencias-sociais-835-11o-ano/
LOCATION:Escola Portuguesa de Macau\, Av. do Infante Dom Henrique\, Macau\, Macau
CATEGORIES:Exames
END:VEVENT
BEGIN:VEVENT
DTSTART;TZID=Asia/Macau:20210907T050000
DTEND;TZID=Asia/Macau:20210907T073000
DTSTAMP:20260426T014611
CREATED:20210107T004205Z
LAST-MODIFIED:20210629T011147Z
UID:1521-1630990800-1630999800@www.epmacau.edu.mo
SUMMARY:Exame 2ª Fase de Filosofia (714) - 11º Ano
DESCRIPTION:
URL:https://www.epmacau.edu.mo/calendario-evento/exame-2a-fase-de-filosofia-714-11o-ano/
LOCATION:Escola Portuguesa de Macau\, Av. do Infante Dom Henrique\, Macau\, Macau
CATEGORIES:Exames
END:VEVENT
END:VCALENDAR