BEGIN:VCALENDAR
VERSION:2.0
PRODID:-//EPM - ECPv6.15.17//NONSGML v1.0//EN
CALSCALE:GREGORIAN
METHOD:PUBLISH
X-WR-CALNAME:EPM
X-ORIGINAL-URL:https://www.epmacau.edu.mo
X-WR-CALDESC:Eventos para EPM
REFRESH-INTERVAL;VALUE=DURATION:PT1H
X-Robots-Tag:noindex
X-PUBLISHED-TTL:PT1H
BEGIN:VTIMEZONE
TZID:Asia/Macau
BEGIN:STANDARD
TZOFFSETFROM:+0800
TZOFFSETTO:+0800
TZNAME:CST
DTSTART:20200101T000000
END:STANDARD
END:VTIMEZONE
BEGIN:VEVENT
DTSTART;TZID=Asia/Macau:20210724T003000
DTEND;TZID=Asia/Macau:20210724T030000
DTSTAMP:20260426T053824
CREATED:20210106T234517Z
LAST-MODIFIED:20210629T013254Z
UID:1478-1627086600-1627095600@www.epmacau.edu.mo
SUMMARY:Prova Final 2ª Fase de Matemática (92) - 3º Ciclo
DESCRIPTION:
URL:https://www.epmacau.edu.mo/calendario-evento/exame-2a-fase-de-matematica-92-3o-ciclo/
LOCATION:Escola Portuguesa de Macau\, Av. do Infante Dom Henrique\, Macau\, Macau
CATEGORIES:Exames
END:VEVENT
END:VCALENDAR