BEGIN:VCALENDAR
VERSION:2.0
PRODID:-//EPM - ECPv6.15.17//NONSGML v1.0//EN
CALSCALE:GREGORIAN
METHOD:PUBLISH
X-ORIGINAL-URL:https://www.epmacau.edu.mo
X-WR-CALDESC:Eventos para EPM
REFRESH-INTERVAL;VALUE=DURATION:PT1H
X-Robots-Tag:noindex
X-PUBLISHED-TTL:PT1H
BEGIN:VTIMEZONE
TZID:Asia/Macau
BEGIN:STANDARD
TZOFFSETFROM:+0800
TZOFFSETTO:+0800
TZNAME:CST
DTSTART:20200101T000000
END:STANDARD
END:VTIMEZONE
BEGIN:VEVENT
DTSTART;TZID=Asia/Macau:20210722T003000
DTEND;TZID=Asia/Macau:20210722T030000
DTSTAMP:20260426T054009
CREATED:20210106T234723Z
LAST-MODIFIED:20210629T014750Z
UID:1479-1626913800-1626922800@www.epmacau.edu.mo
SUMMARY:Prova Final 2ª Fase de Português (91) - 3º Ciclo
DESCRIPTION:
URL:https://www.epmacau.edu.mo/calendario-evento/exame-2a-fase-de-portugues-3o-ciclo/
LOCATION:Escola Portuguesa de Macau\, Av. do Infante Dom Henrique\, Macau\, Macau
CATEGORIES:Exames
END:VEVENT
BEGIN:VEVENT
DTSTART;TZID=Asia/Macau:20210722T003000
DTEND;TZID=Asia/Macau:20210722T030000
DTSTAMP:20260426T054009
CREATED:20210106T234942Z
LAST-MODIFIED:20210629T014748Z
UID:1480-1626913800-1626922800@www.epmacau.edu.mo
SUMMARY:Prova Final 2ª Fase de Português Língua Não Materna - 3º Ciclo
DESCRIPTION:Português Língua Não Materna:\n– Nível de iniciação A2 (93)\n– Nível intermédio B1 (94)
URL:https://www.epmacau.edu.mo/calendario-evento/exame-2a-fase-de-portugues-lingua-nao-materna-3o-ciclo/
LOCATION:Escola Portuguesa de Macau\, Av. do Infante Dom Henrique\, Macau\, Macau
CATEGORIES:Exames
END:VEVENT
END:VCALENDAR