BEGIN:VCALENDAR
VERSION:2.0
PRODID:-//EPM - ECPv6.15.17//NONSGML v1.0//EN
CALSCALE:GREGORIAN
METHOD:PUBLISH
X-ORIGINAL-URL:https://www.epmacau.edu.mo
X-WR-CALDESC:Eventos para EPM
REFRESH-INTERVAL;VALUE=DURATION:PT1H
X-Robots-Tag:noindex
X-PUBLISHED-TTL:PT1H
BEGIN:VTIMEZONE
TZID:Asia/Macau
BEGIN:STANDARD
TZOFFSETFROM:+0800
TZOFFSETTO:+0800
TZNAME:CST
DTSTART:20200101T000000
END:STANDARD
END:VTIMEZONE
BEGIN:VEVENT
DTSTART;TZID=Asia/Macau:20210710T003000
DTEND;TZID=Asia/Macau:20210710T030000
DTSTAMP:20260426T054041
CREATED:20210107T002448Z
LAST-MODIFIED:20210629T012241Z
UID:1498-1625877000-1625886000@www.epmacau.edu.mo
SUMMARY:Exame 1ª Fase de Economia A (712) - 11º Ano
DESCRIPTION:
URL:https://www.epmacau.edu.mo/calendario-evento/exame-1a-fase-de-economia-a-712-11o-ano/
LOCATION:Escola Portuguesa de Macau\, Av. do Infante Dom Henrique\, Macau\, Macau
CATEGORIES:Exames
END:VEVENT
BEGIN:VEVENT
DTSTART;TZID=Asia/Macau:20210710T050000
DTEND;TZID=Asia/Macau:20210710T073000
DTSTAMP:20260426T054041
CREATED:20210107T002126Z
LAST-MODIFIED:20210629T012055Z
UID:1499-1625893200-1625902200@www.epmacau.edu.mo
SUMMARY:Exame 1ª Fase de Alemão (501) - 11º Ano
DESCRIPTION:
URL:https://www.epmacau.edu.mo/calendario-evento/exame-1a-fase-de-alemao-501-11o-ano/
LOCATION:Escola Portuguesa de Macau\, Av. do Infante Dom Henrique\, Macau\, Macau
CATEGORIES:Exames
END:VEVENT
END:VCALENDAR