BEGIN:VCALENDAR
VERSION:2.0
PRODID:-//EPM - ECPv6.15.17//NONSGML v1.0//EN
CALSCALE:GREGORIAN
METHOD:PUBLISH
X-WR-CALNAME:EPM
X-ORIGINAL-URL:https://www.epmacau.edu.mo
X-WR-CALDESC:Eventos para EPM
REFRESH-INTERVAL;VALUE=DURATION:PT1H
X-Robots-Tag:noindex
X-PUBLISHED-TTL:PT1H
BEGIN:VTIMEZONE
TZID:Asia/Macau
BEGIN:STANDARD
TZOFFSETFROM:+0800
TZOFFSETTO:+0800
TZNAME:CST
DTSTART:20200101T000000
END:STANDARD
END:VTIMEZONE
BEGIN:VEVENT
DTSTART;TZID=Asia/Macau:20210707T003000
DTEND;TZID=Asia/Macau:20210707T030000
DTSTAMP:20260426T053754
CREATED:20210107T001323Z
LAST-MODIFIED:20210629T012344Z
UID:1491-1625617800-1625626800@www.epmacau.edu.mo
SUMMARY:Exame 1ª Fase de Filosofia (714) - 11º Ano
DESCRIPTION:
URL:https://www.epmacau.edu.mo/calendario-evento/exame-1a-fase-de-filosofia-714-11o-ano/
LOCATION:Escola Portuguesa de Macau\, Av. do Infante Dom Henrique\, Macau\, Macau
CATEGORIES:Exames
END:VEVENT
BEGIN:VEVENT
DTSTART;TZID=Asia/Macau:20210707T050000
DTEND;TZID=Asia/Macau:20210707T073000
DTSTAMP:20260426T053754
CREATED:20210107T001424Z
LAST-MODIFIED:20210629T012328Z
UID:1492-1625634000-1625643000@www.epmacau.edu.mo
SUMMARY:Exame 1ª Fase de Francês (517) - 11º Ano
DESCRIPTION:
URL:https://www.epmacau.edu.mo/calendario-evento/exame-1a-fase-de-frances-517-11o-ano/
LOCATION:Escola Portuguesa de Macau\, Av. do Infante Dom Henrique\, Macau\, Macau
CATEGORIES:Exames
END:VEVENT
END:VCALENDAR